BEGIN:VCALENDAR
METHOD:REQUEST
PRODID:Microsoft Exchange Server 2010
VERSION:2.0
BEGIN:VTIMEZONE
TZID:UTC
BEGIN:STANDARD
DTSTART:16010101T000000
TZOFFSETFROM:+0000
TZOFFSETTO:+0000
END:STANDARD
BEGIN:DAYLIGHT
DTSTART:16010101T000000
TZOFFSETFROM:+0000
TZOFFSETTO:+0000
END:DAYLIGHT
END:VTIMEZONE
BEGIN:VEVENT
ORGANIZER;CN=Kimberly Carlson:MAILTO:kimberly.carlson@icann.org
ATTENDEE;ROLE=REQ-PARTICIPANT;PARTSTAT=NEEDS-ACTION;RSVP=TRUE;CN=IFRT@icann
 .org:MAILTO:IFRT@icann.org
ATTENDEE;ROLE=REQ-PARTICIPANT;PARTSTAT=NEEDS-ACTION;RSVP=TRUE;CN=ifrt-leade
 rship@icann.org:MAILTO:ifrt-leadership@icann.org
ATTENDEE;ROLE=OPT-PARTICIPANT;PARTSTAT=NEEDS-ACTION;RSVP=TRUE;CN=dawson@i2c
 oalition.com:MAILTO:dawson@i2coalition.com
ATTENDEE;ROLE=OPT-PARTICIPANT;PARTSTAT=NEEDS-ACTION;RSVP=TRUE;CN=Danko Jevt
 ović:MAILTO:danko@jevtovic.rs
ATTENDEE;ROLE=OPT-PARTICIPANT;PARTSTAT=NEEDS-ACTION;RSVP=TRUE;CN=Steve Cont
 e:MAILTO:steve.conte@icann.org
ATTENDEE;ROLE=OPT-PARTICIPANT;PARTSTAT=NEEDS-ACTION;RSVP=TRUE;CN=Amy Creame
 r:MAILTO:amy.creamer@icann.org
ATTENDEE;ROLE=OPT-PARTICIPANT;PARTSTAT=NEEDS-ACTION;RSVP=TRUE;CN="Wilhelm, R
 ichard":MAILTO:rwilhelm@verisign.com
ATTENDEE;ROLE=OPT-PARTICIPANT;PARTSTAT=NEEDS-ACTION;RSVP=TRUE;CN=Becky Nash
 :MAILTO:becky.nash@icann.org
ATTENDEE;ROLE=OPT-PARTICIPANT;PARTSTAT=NEEDS-ACTION;RSVP=TRUE;CN=Shani Quid
 wai:MAILTO:shani.quidwai@icann.org
DESCRIPTION;LANGUAGE=en-US:**STARTING IN 15 MINUTES****\n\n\n\n\n\nDear IAN
 A Function Review Team (IFRT)\,\n\n\n\nThe next IANA Function Review Team 
 (IFRT) teleconference is scheduled for 14 April at 17:00 UTC. (time zone<h
 ttps://www.timeanddate.com/worldclock/fixedtime.html?msg=IANA+Function+Rev
 iew+Team+%28IFRT%29&iso=20200414T17&ah=1&am=30>)\n\n\n\nAn agenda will be 
 circulated prior to the call.\n\n\n\nCall details:\n\nJoin Zoom Meeting\n\
 nhttps://icann.zoom.us/j/958023196\n\n\n\nMeeting ID: 958 023 196\n\nFind 
 your local number: https://icann.zoom.us/u/aAAP6aGAx\n\nWiki space: https:
 //community.icann.org/x/ADGJBw (Background material\, recording\, notes an
 d attendance will be posted here as it becomes available)\n\n\n\nOne tap m
 obile\n\n+16699006833\,\,958023196# US (San Jose)\n\n+13462487799\,\,95802
 3196# US (Houston)\n
SUMMARY;LANGUAGE=en-US:IANA Function Review Team (IFRT) teleconference | 14
  April at 17:00 UTC
DTSTART;TZID=UTC:20200414T170000
DTEND;TZID=UTC:20200414T183000
UID:3EDF7A58-D271-40E9-951E-9503862A3B6E
CLASS:PUBLIC
PRIORITY:5
DTSTAMP:20200414T164411Z
TRANSP:OPAQUE
STATUS:CONFIRMED
SEQUENCE:1
LOCATION;LANGUAGE=en-US:https://icann.zoom.us/j/958023196 
X-MICROSOFT-CDO-APPT-SEQUENCE:1
X-MICROSOFT-CDO-OWNERAPPTID:2118388774
X-MICROSOFT-CDO-BUSYSTATUS:TENTATIVE
X-MICROSOFT-CDO-INTENDEDSTATUS:BUSY
X-MICROSOFT-CDO-ALLDAYEVENT:FALSE
X-MICROSOFT-CDO-IMPORTANCE:1
X-MICROSOFT-CDO-INSTTYPE:0
X-MICROSOFT-DISALLOW-COUNTER:FALSE
BEGIN:VALARM
DESCRIPTION:REMINDER
TRIGGER;RELATED=START:-PT15M
ACTION:DISPLAY
END:VALARM
END:VEVENT
END:VCALENDAR
