BEGIN:VCALENDAR
METHOD:REQUEST
PRODID:Microsoft Exchange Server 2010
VERSION:2.0
BEGIN:VTIMEZONE
TZID:UTC
BEGIN:STANDARD
DTSTART:16010101T000000
TZOFFSETFROM:+0000
TZOFFSETTO:+0000
END:STANDARD
BEGIN:DAYLIGHT
DTSTART:16010101T000000
TZOFFSETFROM:+0000
TZOFFSETTO:+0000
END:DAYLIGHT
END:VTIMEZONE
BEGIN:VEVENT
ORGANIZER;CN=Kimberly Carlson:MAILTO:kimberly.carlson@icann.org
ATTENDEE;ROLE=REQ-PARTICIPANT;PARTSTAT=NEEDS-ACTION;RSVP=TRUE;CN=IFRT@icann
 .org:MAILTO:IFRT@icann.org
ATTENDEE;ROLE=REQ-PARTICIPANT;PARTSTAT=NEEDS-ACTION;RSVP=TRUE;CN=ifrt-leade
 rship@icann.org:MAILTO:ifrt-leadership@icann.org
ATTENDEE;ROLE=OPT-PARTICIPANT;PARTSTAT=NEEDS-ACTION;RSVP=TRUE;CN=Steve Cont
 e:MAILTO:steve.conte@icann.org
ATTENDEE;ROLE=OPT-PARTICIPANT;PARTSTAT=NEEDS-ACTION;RSVP=TRUE;CN=Kim Davies
 :MAILTO:kim.davies@iana.org
ATTENDEE;ROLE=OPT-PARTICIPANT;PARTSTAT=NEEDS-ACTION;RSVP=TRUE;CN=Danko Jevt
 ović:MAILTO:danko@jevtovic.rs
ATTENDEE;ROLE=OPT-PARTICIPANT;PARTSTAT=NEEDS-ACTION;RSVP=TRUE;CN=James Gann
 on:MAILTO:james@cyberinvasion.net
ATTENDEE;ROLE=OPT-PARTICIPANT;PARTSTAT=NEEDS-ACTION;RSVP=TRUE;CN="Wilhelm, R
 ichard":MAILTO:rwilhelm@verisign.com
ATTENDEE;ROLE=OPT-PARTICIPANT;PARTSTAT=NEEDS-ACTION;RSVP=TRUE;CN=paf@netnod
 .se:MAILTO:paf@netnod.se
ATTENDEE;ROLE=OPT-PARTICIPANT;PARTSTAT=NEEDS-ACTION;RSVP=TRUE;CN=mesumbesli
 n@gmail.com:MAILTO:mesumbeslin@gmail.com
ATTENDEE;ROLE=OPT-PARTICIPANT;PARTSTAT=NEEDS-ACTION;RSVP=TRUE;CN=unguecstep
 hen@gmail.com:MAILTO:unguecstephen@gmail.com
ATTENDEE;ROLE=OPT-PARTICIPANT;PARTSTAT=NEEDS-ACTION;RSVP=TRUE;CN=Amy Creame
 r:MAILTO:amy.creamer@icann.org
DESCRIPTION;LANGUAGE=en-US:***STARTING IN 30 MINUTES***\n\n\n\nDear all\,\n
 \n\n\nPursuant to the recent Doodle\, and time zone consideration of the C
 hairs\, the next IANA Function Review Team (IFRT) teleconference is schedu
 led for 28 April at 18:00 UTC. (time zone converter<https://www.timeanddat
 e.com/worldclock/fixedtime.html?msg=IANA+Function+Review+Team+%28IFRT%29+T
 eleconference+%2310&iso=20200428T18&ah=1&am=30>)\n\n\n\nAn agenda will be 
 sent prior to the call.\n\n\n\nPlease find the call details below:\n\nJoin
  Zoom Meeting\n\nhttps://icann.zoom.us/j/95465960410?pwd=SXZDMndvOVh4M25OT
 HNjSnJraXlidz09\n\n\n\nMeeting ID: 954 6596 0410\n\nPassword: 858150\n\n*P
 LEASE NOTE this added security/privacy feature. Participants will only be 
 required to enter the password if they are joining via the application and
  typing in the meeting ID manually. Anyone who joins a meeting via a link 
 in a calendar or e-mail invitation will not be required to enter the passw
 ord upon joining.*\n\n\n\nOne tap mobile\n\n+16699006833\,\,95465960410#\,
 \,#\,858150# US (San Jose)\n\n+13462487799\,\,95465960410#\,\,#\,858150# U
 S (Houston)\n\n\n\nFind your local number: https://icann.zoom.us/u/aAAP6aG
 Ax\n
SUMMARY;LANGUAGE=en-US:IANA Function Review Team (IFRT) teleconference | 28
  April at 18:00 UTC
DTSTART;TZID=UTC:20200428T180000
DTEND;TZID=UTC:20200428T193000
UID:80F679F4-989A-4031-BFAF-EB748E496708
CLASS:PUBLIC
PRIORITY:5
DTSTAMP:20200428T173017Z
TRANSP:OPAQUE
STATUS:CONFIRMED
SEQUENCE:1
LOCATION;LANGUAGE=en-US:https://icann.zoom.us/j/95465960410?pwd=SXZDMndvOVh
 4M25OTHNjSnJraXlidz09 
X-MICROSOFT-CDO-APPT-SEQUENCE:1
X-MICROSOFT-CDO-OWNERAPPTID:2118432291
X-MICROSOFT-CDO-BUSYSTATUS:TENTATIVE
X-MICROSOFT-CDO-INTENDEDSTATUS:BUSY
X-MICROSOFT-CDO-ALLDAYEVENT:FALSE
X-MICROSOFT-CDO-IMPORTANCE:1
X-MICROSOFT-CDO-INSTTYPE:0
X-MICROSOFT-DISALLOW-COUNTER:FALSE
BEGIN:VALARM
DESCRIPTION:REMINDER
TRIGGER;RELATED=START:-PT15M
ACTION:DISPLAY
END:VALARM
END:VEVENT
END:VCALENDAR
