BEGIN:VCALENDAR
METHOD:REQUEST
PRODID:Microsoft Exchange Server 2010
VERSION:2.0
BEGIN:VTIMEZONE
TZID:UTC
BEGIN:STANDARD
DTSTART:16010101T000000
TZOFFSETFROM:+0000
TZOFFSETTO:+0000
END:STANDARD
BEGIN:DAYLIGHT
DTSTART:16010101T000000
TZOFFSETFROM:+0000
TZOFFSETTO:+0000
END:DAYLIGHT
END:VTIMEZONE
BEGIN:VEVENT
ORGANIZER;CN=Kimberly Carlson;SENT-BY="MAILTO:amy.creamer@icann.org":MAILTO:k
 imberly.carlson@icann.org
ATTENDEE;ROLE=REQ-PARTICIPANT;PARTSTAT=NEEDS-ACTION;RSVP=TRUE;CN=IFRT@icann
 .org:MAILTO:IFRT@icann.org
DESCRIPTION;LANGUAGE=en-US:Just found out about this tip this morning – i
 f your password is rejected you may have a space at the end you need to re
 move.\n\nFrom: kimberly.carlson@icann.org\nWhen: 11:00 - 12:30 May 12\, 20
 20\nSubject: IANA Function Review Team (IFRT) teleconference | 12 May at 1
 8:00 UTC\nLocation: https://icann.zoom.us/j/94091456807\n\n\n**STARTING IN
  25 MINUTES***\n\nDear IFRT\,\n\nThe next IANA Function Review Team (IFRT)
  teleconference is scheduled for 12 May at 18:00 UTC. (time zone converter
 <https://www.timeanddate.com/worldclock/fixedtime.html?msg=IANA+Function+R
 eview+Team+%28IFRT%29+Call+%2311&iso=20200512T18&ah=1&am=30>)\n\nPLEASE NO
 TE\, the use of embedded passcodes have been disabled. ALL participants wi
 ll be required to enter a passcode\, no matter how they join (link\, mobil
 e device\, etc.). Additionally\, the use of “waiting rooms” are now ma
 ndatory. Staff will make every attempt to admit participants into Zoom as 
 quickly as possible. APOLOGIES for any inconvenience this may cause.\nAn a
 genda will be sent prior to the call.\n\nPlease find the call details belo
 w:\nJoin Zoom Meeting\nhttps://icann.zoom.us/j/94091456807\n\nMeeting ID: 
 940 9145 6807\nPassword: 9z&A#sMijJ\nOne tap mobile\n+16699006833\,\,94091
 456807#\,\,1#\,633831# US (San Jose)\n+13462487799\,\,94091456807#\,\,1#\,
 633831# US (Houston)\nWiki space: https://community.icann.org/x/nYXsBw (me
 eting notes\, recording and background material will be posted here as it 
 becomes available)\n\nFind your local number: https://icann.zoom.us/u/aKx5
 sFtyo\n\n
SUMMARY;LANGUAGE=en-US:Password- if you copy/paste it into Zoom\, it adds a
  SPACE at the end you need to remove
DTSTART;TZID=UTC:20200512T180000
DTEND;TZID=UTC:20200512T193000
UID:BB7289AD-877A-405C-A6C4-1126C07BCDF3
CLASS:PUBLIC
PRIORITY:5
DTSTAMP:20200512T173558Z
TRANSP:OPAQUE
STATUS:CONFIRMED
SEQUENCE:1
LOCATION;LANGUAGE=en-US: https://icann.zoom.us/j/94091456807
X-MICROSOFT-CDO-APPT-SEQUENCE:1
X-MICROSOFT-CDO-OWNERAPPTID:2118459774
X-MICROSOFT-CDO-BUSYSTATUS:TENTATIVE
X-MICROSOFT-CDO-INTENDEDSTATUS:BUSY
X-MICROSOFT-CDO-ALLDAYEVENT:FALSE
X-MICROSOFT-CDO-IMPORTANCE:1
X-MICROSOFT-CDO-INSTTYPE:0
X-MICROSOFT-DISALLOW-COUNTER:FALSE
BEGIN:VALARM
DESCRIPTION:REMINDER
TRIGGER;RELATED=START:-PT15M
ACTION:DISPLAY
END:VALARM
END:VEVENT
END:VCALENDAR
