BEGIN:VCALENDAR
METHOD:REQUEST
PRODID:Microsoft Exchange Server 2010
VERSION:2.0
BEGIN:VTIMEZONE
TZID:UTC
BEGIN:STANDARD
DTSTART:16010101T000000
TZOFFSETFROM:+0000
TZOFFSETTO:+0000
END:STANDARD
BEGIN:DAYLIGHT
DTSTART:16010101T000000
TZOFFSETFROM:+0000
TZOFFSETTO:+0000
END:DAYLIGHT
END:VTIMEZONE
BEGIN:VEVENT
ORGANIZER;CN=Kimberly Carlson:MAILTO:kimberly.carlson@icann.org
ATTENDEE;ROLE=REQ-PARTICIPANT;PARTSTAT=NEEDS-ACTION;RSVP=TRUE;CN=IFRT@icann
 .org:MAILTO:IFRT@icann.org
ATTENDEE;ROLE=REQ-PARTICIPANT;PARTSTAT=NEEDS-ACTION;RSVP=TRUE;CN=ifrt-obser
 vers@icann.org:MAILTO:ifrt-observers@icann.org
ATTENDEE;ROLE=OPT-PARTICIPANT;PARTSTAT=NEEDS-ACTION;RSVP=TRUE;CN="Wilhelm, R
 ichard":MAILTO:rwilhelm@verisign.com
ATTENDEE;ROLE=OPT-PARTICIPANT;PARTSTAT=NEEDS-ACTION;RSVP=TRUE;CN=Danko Jevt
 ović:MAILTO:danko@jevtovic.rs
ATTENDEE;ROLE=OPT-PARTICIPANT;PARTSTAT=NEEDS-ACTION;RSVP=TRUE;CN=dawson@i2c
 oalition.com:MAILTO:dawson@i2coalition.com
ATTENDEE;ROLE=OPT-PARTICIPANT;PARTSTAT=NEEDS-ACTION;RSVP=TRUE;CN=Amy Creame
 r:MAILTO:amy.creamer@icann.org
ATTENDEE;ROLE=OPT-PARTICIPANT;PARTSTAT=NEEDS-ACTION;RSVP=TRUE;CN=Steve Cont
 e:MAILTO:steve.conte@icann.org
ATTENDEE;ROLE=OPT-PARTICIPANT;PARTSTAT=NEEDS-ACTION;RSVP=TRUE;CN=mesumbesli
 n@gmail.com:MAILTO:mesumbeslin@gmail.com
ATTENDEE;ROLE=OPT-PARTICIPANT;PARTSTAT=NEEDS-ACTION;RSVP=TRUE;CN=Samantha E
 isner:MAILTO:Samantha.Eisner@icann.org
ATTENDEE;ROLE=OPT-PARTICIPANT;PARTSTAT=NEEDS-ACTION;RSVP=TRUE;CN=Marilia Hi
 rano:MAILTO:marilia.hirano@iana.org
ATTENDEE;ROLE=OPT-PARTICIPANT;PARTSTAT=NEEDS-ACTION;RSVP=TRUE;CN=Naela Sarr
 as:MAILTO:naela.sarras@iana.org
ATTENDEE;ROLE=OPT-PARTICIPANT;PARTSTAT=NEEDS-ACTION;RSVP=TRUE;CN=Kim Davies
 :MAILTO:kim.davies@iana.org
DESCRIPTION;LANGUAGE=en-US:**STARTING IN 25 MINUTES***\n\n\n\nDear IFRT\,\n
 \n\n\nThe next IANA Function Review Team (IFRT) teleconference is schedule
 d for 12 May at 18:00 UTC. (time zone converter<https://www.timeanddate.co
 m/worldclock/fixedtime.html?msg=IANA+Function+Review+Team+%28IFRT%29+Call+
 %2311&iso=20200512T18&ah=1&am=30>)\n\n\n\nPLEASE NOTE\, the use of embedde
 d passcodes have been disabled. ALL participants will be required to enter
  a passcode\, no matter how they join (link\, mobile device\, etc.). Addit
 ionally\, the use of “waiting rooms” are now mandatory. Staff will mak
 e every attempt to admit participants into Zoom as quickly as possible. AP
 OLOGIES for any inconvenience this may cause.\n\n\nAn agenda will be sent 
 prior to the call.\n\n\n\nPlease find the call details below:\n\nJoin Zoom
  Meeting\n\nhttps://icann.zoom.us/j/94091456807\n\n\n\nMeeting ID: 940 914
 5 6807\n\nPassword: 9z&A#sMijJ\n\nOne tap mobile\n\n+16699006833\,\,940914
 56807#\,\,1#\,633831# US (San Jose)\n\n+13462487799\,\,94091456807#\,\,1#\
 ,633831# US (Houston)\n\nWiki space: https://community.icann.org/x/nYXsBw 
 (meeting notes\, recording and background material will be posted here as 
 it becomes available)\n\n\n\nFind your local number: https://icann.zoom.us
 /u/aKx5sFtyo\n\n\n
SUMMARY;LANGUAGE=en-US:IANA Function Review Team (IFRT) teleconference | 12
  May at 18:00 UTC
DTSTART;TZID=UTC:20200512T180000
DTEND;TZID=UTC:20200512T193000
UID:BB7289AD-877A-405C-A6C4-1126C07BCDF3
CLASS:PUBLIC
PRIORITY:5
DTSTAMP:20200512T173558Z
TRANSP:OPAQUE
STATUS:CONFIRMED
SEQUENCE:1
LOCATION;LANGUAGE=en-US: https://icann.zoom.us/j/94091456807
X-MICROSOFT-CDO-APPT-SEQUENCE:1
X-MICROSOFT-CDO-OWNERAPPTID:2118459774
X-MICROSOFT-CDO-BUSYSTATUS:TENTATIVE
X-MICROSOFT-CDO-INTENDEDSTATUS:BUSY
X-MICROSOFT-CDO-ALLDAYEVENT:FALSE
X-MICROSOFT-CDO-IMPORTANCE:1
X-MICROSOFT-CDO-INSTTYPE:0
X-MICROSOFT-DISALLOW-COUNTER:FALSE
BEGIN:VALARM
DESCRIPTION:REMINDER
TRIGGER;RELATED=START:-PT15M
ACTION:DISPLAY
END:VALARM
END:VEVENT
END:VCALENDAR
