BEGIN:VCALENDAR
METHOD:REQUEST
PRODID:Microsoft Exchange Server 2010
VERSION:2.0
BEGIN:VTIMEZONE
TZID:UTC
BEGIN:STANDARD
DTSTART:16010101T000000
TZOFFSETFROM:+0000
TZOFFSETTO:+0000
END:STANDARD
BEGIN:DAYLIGHT
DTSTART:16010101T000000
TZOFFSETFROM:+0000
TZOFFSETTO:+0000
END:DAYLIGHT
END:VTIMEZONE
BEGIN:VEVENT
ORGANIZER;CN=Kimberly Carlson:MAILTO:kimberly.carlson@icann.org
ATTENDEE;ROLE=REQ-PARTICIPANT;PARTSTAT=NEEDS-ACTION;RSVP=TRUE;CN=IFRT@icann
 .org:MAILTO:IFRT@icann.org
ATTENDEE;ROLE=REQ-PARTICIPANT;PARTSTAT=NEEDS-ACTION;RSVP=TRUE;CN=ifrt-obser
 vers@icann.org:MAILTO:ifrt-observers@icann.org
ATTENDEE;ROLE=REQ-PARTICIPANT;PARTSTAT=NEEDS-ACTION;RSVP=TRUE;CN=ifrt-leade
 rship@icann.org:MAILTO:ifrt-leadership@icann.org
DESCRIPTION;LANGUAGE=en-US:Dear IFRT\,\n\n\n\nThe next IANA Function Review
  Team (IFRT) teleconference is scheduled for 9 June at 18:00 UTC.\n\n\n\nA
 n agenda will be circulated prior to the call.\n\n\n\nPlease find the call
  details below:\n\nJoin Zoom Meeting\n\nhttps://icann.zoom.us/j/9488640261
 5\n\n\n\nMeeting ID: 948 8640 2615\n\nPassword: IFRT#no.13\n\n(password if
  using phone audio ONLY:  966541)\n\nWiki page:  https://community.icann.o
 rg/x/toXsBw (attendance\, recording\, background material and meeting note
 s will be posted as it becomes available)\n\n\n\nThank you\,\n\nKim\n
SUMMARY;LANGUAGE=en-US:IANA Function Review Team (IFRT) teleconference | 9 
 June at 18:00 UTC
DTSTART;TZID=UTC:20200609T180000
DTEND;TZID=UTC:20200609T193000
UID:2B45E5E5-9B44-4A1A-ACFD-DFDD16054D76
CLASS:PUBLIC
PRIORITY:5
DTSTAMP:20200604T160450Z
TRANSP:OPAQUE
STATUS:CONFIRMED
SEQUENCE:0
LOCATION;LANGUAGE=en-US:https://icann.zoom.us/j/94886402615 
X-MICROSOFT-CDO-APPT-SEQUENCE:0
X-MICROSOFT-CDO-OWNERAPPTID:2118526899
X-MICROSOFT-CDO-BUSYSTATUS:TENTATIVE
X-MICROSOFT-CDO-INTENDEDSTATUS:BUSY
X-MICROSOFT-CDO-ALLDAYEVENT:FALSE
X-MICROSOFT-CDO-IMPORTANCE:1
X-MICROSOFT-CDO-INSTTYPE:0
X-MICROSOFT-DISALLOW-COUNTER:FALSE
BEGIN:VALARM
DESCRIPTION:REMINDER
TRIGGER;RELATED=START:-PT15M
ACTION:DISPLAY
END:VALARM
END:VEVENT
END:VCALENDAR
