BEGIN:VCALENDAR
METHOD:CANCEL
PRODID:Microsoft Exchange Server 2010
VERSION:2.0
BEGIN:VTIMEZONE
TZID:UTC
BEGIN:STANDARD
DTSTART:16010101T000000
TZOFFSETFROM:+0000
TZOFFSETTO:+0000
END:STANDARD
BEGIN:DAYLIGHT
DTSTART:16010101T000000
TZOFFSETFROM:+0000
TZOFFSETTO:+0000
END:DAYLIGHT
END:VTIMEZONE
BEGIN:VEVENT
ORGANIZER;CN=Kimberly Carlson:MAILTO:kimberly.carlson@icann.org
ATTENDEE;ROLE=REQ-PARTICIPANT;PARTSTAT=NEEDS-ACTION;RSVP=TRUE;CN=IFRT@icann
 .org:MAILTO:IFRT@icann.org
ATTENDEE;ROLE=REQ-PARTICIPANT;PARTSTAT=NEEDS-ACTION;RSVP=TRUE;CN=ifrt-obser
 vers@icann.org:MAILTO:ifrt-observers@icann.org
ATTENDEE;ROLE=REQ-PARTICIPANT;PARTSTAT=NEEDS-ACTION;RSVP=TRUE;CN=ifrt-leade
 rship@icann.org:MAILTO:ifrt-leadership@icann.org
ATTENDEE;ROLE=OPT-PARTICIPANT;PARTSTAT=NEEDS-ACTION;RSVP=TRUE;CN=Steve Cont
 e:MAILTO:steve.conte@icann.org
ATTENDEE;ROLE=OPT-PARTICIPANT;PARTSTAT=NEEDS-ACTION;RSVP=TRUE;CN=James Gann
 on:MAILTO:james@cyberinvasion.net
ATTENDEE;ROLE=OPT-PARTICIPANT;PARTSTAT=NEEDS-ACTION;RSVP=TRUE;CN=Danko Jevt
 ović:MAILTO:danko@jevtovic.rs
ATTENDEE;ROLE=OPT-PARTICIPANT;PARTSTAT=NEEDS-ACTION;RSVP=TRUE;CN="Wilhelm, R
 ichard":MAILTO:rwilhelm@verisign.com
ATTENDEE;ROLE=OPT-PARTICIPANT;PARTSTAT=NEEDS-ACTION;RSVP=TRUE;CN=paf@netnod
 .se:MAILTO:paf@netnod.se
ATTENDEE;ROLE=OPT-PARTICIPANT;PARTSTAT=NEEDS-ACTION;RSVP=TRUE;CN=Amy Creame
 r:MAILTO:amy.creamer@icann.org
ATTENDEE;ROLE=OPT-PARTICIPANT;PARTSTAT=NEEDS-ACTION;RSVP=TRUE;CN=unguecstep
 hen@gmail.com:MAILTO:unguecstephen@gmail.com
ATTENDEE;ROLE=OPT-PARTICIPANT;PARTSTAT=NEEDS-ACTION;RSVP=TRUE;CN=dawson@i2c
 oalition.com:MAILTO:dawson@i2coalition.com
ATTENDEE;ROLE=OPT-PARTICIPANT;PARTSTAT=NEEDS-ACTION;RSVP=TRUE;CN=mesumbesli
 n@gmail.com:MAILTO:mesumbeslin@gmail.com
ATTENDEE;ROLE=OPT-PARTICIPANT;PARTSTAT=NEEDS-ACTION;RSVP=TRUE;CN=Kim Davies
 :MAILTO:kim.davies@iana.org
DESCRIPTION;LANGUAGE=en-US:Dear IFRT\,\n\nThe next IANA Function Review Tea
 m (IFRT) teleconference is scheduled for 9 June at 18:00 UTC.\n\nAn agenda
  will be circulated prior to the call.\n\nPlease find the call details bel
 ow:\nJoin Zoom Meeting\nhttps://icann.zoom.us/j/94886402615\n\nMeeting ID:
  948 8640 2615\nPassword: IFRT#no.13\n(password if using phone audio ONLY:
  966541)\nWiki page: https://community.icann.org/x/toXsBw (attendance\, re
 cording\, background material and meeting notes will be posted as it becom
 es available)\n\nThank you\,\nKim\n
SUMMARY;LANGUAGE=en-US:Canceled: IANA Function Review Team (IFRT) teleconfe
 rence | 9 June at 18:00 UTC
DTSTART;TZID=UTC:20200609T180000
DTEND;TZID=UTC:20200609T193000
UID:2B45E5E5-9B44-4A1A-ACFD-DFDD16054D76
CLASS:PUBLIC
PRIORITY:5
DTSTAMP:20200608T165026Z
TRANSP:OPAQUE
STATUS:CANCELLED
SEQUENCE:1
LOCATION;LANGUAGE=en-US:https://icann.zoom.us/j/94886402615 
X-MICROSOFT-CDO-APPT-SEQUENCE:1
X-MICROSOFT-CDO-OWNERAPPTID:2118526899
X-MICROSOFT-CDO-BUSYSTATUS:FREE
X-MICROSOFT-CDO-INTENDEDSTATUS:FREE
X-MICROSOFT-CDO-ALLDAYEVENT:FALSE
X-MICROSOFT-CDO-IMPORTANCE:1
X-MICROSOFT-CDO-INSTTYPE:0
X-MICROSOFT-DISALLOW-COUNTER:FALSE
END:VEVENT
END:VCALENDAR
