BEGIN:VCALENDAR
METHOD:REQUEST
PRODID:Microsoft Exchange Server 2010
VERSION:2.0
BEGIN:VTIMEZONE
TZID:UTC
BEGIN:STANDARD
DTSTART:16010101T000000
TZOFFSETFROM:+0000
TZOFFSETTO:+0000
END:STANDARD
BEGIN:DAYLIGHT
DTSTART:16010101T000000
TZOFFSETFROM:+0000
TZOFFSETTO:+0000
END:DAYLIGHT
END:VTIMEZONE
BEGIN:VEVENT
ORGANIZER;CN=Kimberly Carlson:MAILTO:kimberly.carlson@icann.org
ATTENDEE;ROLE=REQ-PARTICIPANT;PARTSTAT=NEEDS-ACTION;RSVP=TRUE;CN=IFRT@icann
 .org:MAILTO:IFRT@icann.org
ATTENDEE;ROLE=REQ-PARTICIPANT;PARTSTAT=NEEDS-ACTION;RSVP=TRUE;CN=ifrt-leade
 rship@icann.org:MAILTO:ifrt-leadership@icann.org
ATTENDEE;ROLE=REQ-PARTICIPANT;PARTSTAT=NEEDS-ACTION;RSVP=TRUE;CN=ifrt-obser
 vers@icann.org:MAILTO:ifrt-observers@icann.org
DESCRIPTION;LANGUAGE=en-US:Dear all\,\n\n\n\nThe next IANA Function Review 
 Team teleconference is scheduled for 23 June at 18:00 UTC.\n\n\n\nAn agend
 a will be circulated prior to the call.\n\n\n\nPlease find the call detail
 s below:\n\nJoin Zoom Meeting\n\nhttps://icann.zoom.us/j/94533396998?pwd=R
 UlqTU5VRXF3TVNvV0NNeDJML1JvZz09\n\nwiki:  https://community.icann.org/x/wo
 XsBw (notes\, recording and background material will be posted here as it 
 becomes available)\n\n\n\nMeeting ID: 945 3339 6998\n\nPassword: !FRTcall1
 3 (exclamation point replaces the “I”)\n
SUMMARY;LANGUAGE=en-US:IANA Function Review Team teleconferene | 23 June at
  18:00 UTC
DTSTART;TZID=UTC:20200623T180000
DTEND;TZID=UTC:20200623T193000
UID:EF76E05D-67CD-46C3-BD05-542B9C09A8C1
CLASS:PUBLIC
PRIORITY:5
DTSTAMP:20200615T145337Z
TRANSP:OPAQUE
STATUS:CONFIRMED
SEQUENCE:0
LOCATION;LANGUAGE=en-US:https://icann.zoom.us/j/94533396998?pwd=RUlqTU5VRXF
 3TVNvV0NNeDJML1JvZz09 
X-MICROSOFT-CDO-APPT-SEQUENCE:0
X-MICROSOFT-CDO-OWNERAPPTID:2118548132
X-MICROSOFT-CDO-BUSYSTATUS:TENTATIVE
X-MICROSOFT-CDO-INTENDEDSTATUS:BUSY
X-MICROSOFT-CDO-ALLDAYEVENT:FALSE
X-MICROSOFT-CDO-IMPORTANCE:1
X-MICROSOFT-CDO-INSTTYPE:0
X-MICROSOFT-DISALLOW-COUNTER:FALSE
BEGIN:VALARM
DESCRIPTION:REMINDER
TRIGGER;RELATED=START:-PT15M
ACTION:DISPLAY
END:VALARM
END:VEVENT
END:VCALENDAR
