BEGIN:VCALENDAR
METHOD:REQUEST
PRODID:Microsoft Exchange Server 2010
VERSION:2.0
BEGIN:VTIMEZONE
TZID:UTC
BEGIN:STANDARD
DTSTART:16010101T000000
TZOFFSETFROM:+0000
TZOFFSETTO:+0000
END:STANDARD
BEGIN:DAYLIGHT
DTSTART:16010101T000000
TZOFFSETFROM:+0000
TZOFFSETTO:+0000
END:DAYLIGHT
END:VTIMEZONE
BEGIN:VEVENT
ORGANIZER;CN=Kimberly Carlson:MAILTO:kimberly.carlson@icann.org
ATTENDEE;ROLE=REQ-PARTICIPANT;PARTSTAT=NEEDS-ACTION;RSVP=TRUE;CN=IFRT@icann
 .org:MAILTO:IFRT@icann.org
ATTENDEE;ROLE=REQ-PARTICIPANT;PARTSTAT=NEEDS-ACTION;RSVP=TRUE;CN=ifrt-leade
 rship@icann.org:MAILTO:ifrt-leadership@icann.org
ATTENDEE;ROLE=REQ-PARTICIPANT;PARTSTAT=NEEDS-ACTION;RSVP=TRUE;CN=ifrt-obser
 vers@icann.org:MAILTO:ifrt-observers@icann.org
DESCRIPTION;LANGUAGE=en-US:Dear all\,\n\n\n\nThe next IANA Function Review 
 Team teleconference is scheduled for 21 July at 18:00 UTC.\n\n\n\nAn agend
 a will be circulated prior to the call.\n\n\n\nPlease find the call detail
 s below:\n\nwiki: https://community.icann.org/x/xQB1C  (notes\, recording 
 and background material will be posted here as it becomes available)\n\n\n
 \nJoin Zoom Meeting\n\nhttps://icann.zoom.us/j/94533396998?pwd=bFUxbmQvdGN
 OSitEMDNwdVZ5K2QvQT09\n\n\n\nMeeting ID: 945 3339 6998\n\nPassword: !FRTca
 ll14\n
UID:0E82141C-BDAA-45CF-98A1-D1E3F2CEE1D3
SUMMARY;LANGUAGE=en-US:next IANA Function Review Team teleconference | 21 J
 uly at 18:00 UTC
DTSTART;TZID=UTC:20200721T180000
DTEND;TZID=UTC:20200721T193000
CLASS:PUBLIC
PRIORITY:5
DTSTAMP:20200713T152644Z
TRANSP:OPAQUE
STATUS:CONFIRMED
SEQUENCE:0
LOCATION;LANGUAGE=en-US:https://icann.zoom.us/j/94533396998?pwd=bFUxbmQvdGN
 OSitEMDNwdVZ5K2QvQT09 
X-MICROSOFT-CDO-APPT-SEQUENCE:0
X-MICROSOFT-CDO-OWNERAPPTID:2118609123
X-MICROSOFT-CDO-BUSYSTATUS:TENTATIVE
X-MICROSOFT-CDO-INTENDEDSTATUS:BUSY
X-MICROSOFT-CDO-ALLDAYEVENT:FALSE
X-MICROSOFT-CDO-IMPORTANCE:1
X-MICROSOFT-CDO-INSTTYPE:0
X-MICROSOFT-DONOTFORWARDMEETING:FALSE
X-MICROSOFT-DISALLOW-COUNTER:FALSE
BEGIN:VALARM
DESCRIPTION:REMINDER
TRIGGER;RELATED=START:-PT15M
ACTION:DISPLAY
END:VALARM
END:VEVENT
END:VCALENDAR
