BEGIN:VCALENDAR
METHOD:REQUEST
PRODID:Microsoft Exchange Server 2010
VERSION:2.0
BEGIN:VTIMEZONE
TZID:UTC
BEGIN:STANDARD
DTSTART:16010101T000000
TZOFFSETFROM:+0000
TZOFFSETTO:+0000
END:STANDARD
BEGIN:DAYLIGHT
DTSTART:16010101T000000
TZOFFSETFROM:+0000
TZOFFSETTO:+0000
END:DAYLIGHT
END:VTIMEZONE
BEGIN:VEVENT
ORGANIZER;CN=Kimberly Carlson:MAILTO:kimberly.carlson@icann.org
ATTENDEE;ROLE=REQ-PARTICIPANT;PARTSTAT=NEEDS-ACTION;RSVP=TRUE;CN=IFRT@icann
 .org:MAILTO:IFRT@icann.org
ATTENDEE;ROLE=REQ-PARTICIPANT;PARTSTAT=NEEDS-ACTION;RSVP=TRUE;CN=ifrt-leade
 rship@icann.org:MAILTO:ifrt-leadership@icann.org
ATTENDEE;ROLE=REQ-PARTICIPANT;PARTSTAT=NEEDS-ACTION;RSVP=TRUE;CN=ifrt-obser
 vers@icann.org:MAILTO:ifrt-observers@icann.org
DESCRIPTION;LANGUAGE=en-US:Dear all\,\n\n\n\nThe next IANA Function Review 
 Team teleconference is scheduled for 4 August at 18:00 UTC.\n\n\n\nAn agen
 da will be circulated prior to the call.\n\n\n\nPlease find the call detai
 ls below:\n\nwiki: https://community.icann.org/x/tQR1C  (notes\, recording
  and background material will be posted here as it becomes available)\n\n\
 n\nJoin Zoom Meeting\n\nhttps://icann.zoom.us/j/92186008426?pwd=R1MrM1lJTl
 YwRWZpbzZ1U3pjd1daZz09\n\n\n\nMeeting ID: 921 8600 8426\n\nPasscode: !FRTc
 all14\n
UID:435C4A72-D41D-4BAA-A2E1-786EA141DB08
SUMMARY;LANGUAGE=en-US:IANA Function Review Team teleconference | 4 August 
 at 18:00 UTC
DTSTART;TZID=UTC:20200804T180000
DTEND;TZID=UTC:20200804T193000
CLASS:PUBLIC
PRIORITY:5
DTSTAMP:20200723T130841Z
TRANSP:OPAQUE
STATUS:CONFIRMED
SEQUENCE:0
LOCATION;LANGUAGE=en-US:https://icann.zoom.us/j/92186008426?pwd=R1MrM1lJTlY
 wRWZpbzZ1U3pjd1daZz09 
X-MICROSOFT-CDO-APPT-SEQUENCE:0
X-MICROSOFT-CDO-OWNERAPPTID:2118630879
X-MICROSOFT-CDO-BUSYSTATUS:TENTATIVE
X-MICROSOFT-CDO-INTENDEDSTATUS:BUSY
X-MICROSOFT-CDO-ALLDAYEVENT:FALSE
X-MICROSOFT-CDO-IMPORTANCE:1
X-MICROSOFT-CDO-INSTTYPE:0
X-MICROSOFT-DONOTFORWARDMEETING:FALSE
X-MICROSOFT-DISALLOW-COUNTER:FALSE
BEGIN:VALARM
DESCRIPTION:REMINDER
TRIGGER;RELATED=START:-PT15M
ACTION:DISPLAY
END:VALARM
END:VEVENT
END:VCALENDAR
