BEGIN:VCALENDAR
METHOD:REQUEST
PRODID:Microsoft Exchange Server 2010
VERSION:2.0
BEGIN:VTIMEZONE
TZID:UTC
BEGIN:STANDARD
DTSTART:16010101T000000
TZOFFSETFROM:+0000
TZOFFSETTO:+0000
END:STANDARD
BEGIN:DAYLIGHT
DTSTART:16010101T000000
TZOFFSETFROM:+0000
TZOFFSETTO:+0000
END:DAYLIGHT
END:VTIMEZONE
BEGIN:VEVENT
ORGANIZER;CN=Kimberly Carlson:MAILTO:kimberly.carlson@icann.org
ATTENDEE;ROLE=REQ-PARTICIPANT;PARTSTAT=NEEDS-ACTION;RSVP=TRUE;CN=IFRT@icann
 .org:MAILTO:IFRT@icann.org
ATTENDEE;ROLE=REQ-PARTICIPANT;PARTSTAT=NEEDS-ACTION;RSVP=TRUE;CN=ifrt-leade
 rship@icann.org:MAILTO:ifrt-leadership@icann.org
ATTENDEE;ROLE=REQ-PARTICIPANT;PARTSTAT=NEEDS-ACTION;RSVP=TRUE;CN=ifrt-obser
 vers@icann.org:MAILTO:ifrt-observers@icann.org
ATTENDEE;ROLE=OPT-PARTICIPANT;PARTSTAT=NEEDS-ACTION;RSVP=TRUE;CN=Steve Cont
 e:MAILTO:steve.conte@icann.org
ATTENDEE;ROLE=OPT-PARTICIPANT;PARTSTAT=NEEDS-ACTION;RSVP=TRUE;CN="Wilhelm, R
 ichard":MAILTO:rwilhelm@verisign.com
ATTENDEE;ROLE=OPT-PARTICIPANT;PARTSTAT=NEEDS-ACTION;RSVP=TRUE;CN=Danko Jevt
 ović:MAILTO:danko@jevtovic.rs
ATTENDEE;ROLE=OPT-PARTICIPANT;PARTSTAT=NEEDS-ACTION;RSVP=TRUE;CN=Amy Creame
 r:MAILTO:amy.creamer@icann.org
ATTENDEE;ROLE=OPT-PARTICIPANT;PARTSTAT=NEEDS-ACTION;RSVP=TRUE;CN=mesumbesli
 n@gmail.com:MAILTO:mesumbeslin@gmail.com
ATTENDEE;ROLE=OPT-PARTICIPANT;PARTSTAT=NEEDS-ACTION;RSVP=TRUE;CN=paf@netnod
 .se:MAILTO:paf@netnod.se
ATTENDEE;ROLE=OPT-PARTICIPANT;PARTSTAT=NEEDS-ACTION;RSVP=TRUE;CN=unguecstep
 hen@gmail.com:MAILTO:unguecstephen@gmail.com
ATTENDEE;ROLE=OPT-PARTICIPANT;PARTSTAT=NEEDS-ACTION;RSVP=TRUE;CN=Kim Davies
 :MAILTO:kim.davies@iana.org
DESCRIPTION;LANGUAGE=en-US:***STARTING IN 30 MINUTES***\n\n\n\nDear all\,\n
 \n\n\nThe next IANA Function Review Team teleconference is scheduled for 1
  September at 18:00 UTC.\n\n\n\nAn agenda will be circulated prior to the 
 call.\n\n\n\nJoin Zoom Meeting\n\nhttps://icann.zoom.us/j/98454193328?pwd=
 Rmg0c0k0WVZsSXFwM3N1TEw4dEkrdz09\n\n\n\nMeeting ID: 984 5419 3328\n\nPassc
 ode: !FRTcall17\n
UID:6447F3D8-8FBA-4EDB-8B22-C5AFB213F3D9
SUMMARY;LANGUAGE=en-US:IANA Function Review Team teleconference | 1 Septemb
 er at 18:00 UTC
DTSTART;TZID=UTC:20200901T180000
DTEND;TZID=UTC:20200901T193000
CLASS:PUBLIC
PRIORITY:5
DTSTAMP:20200901T172950Z
TRANSP:OPAQUE
STATUS:CONFIRMED
SEQUENCE:1
LOCATION;LANGUAGE=en-US:https://icann.zoom.us/j/98454193328?pwd=Rmg0c0k0WVZ
 sSXFwM3N1TEw4dEkrdz09 
X-MICROSOFT-CDO-APPT-SEQUENCE:1
X-MICROSOFT-CDO-OWNERAPPTID:2118687634
X-MICROSOFT-CDO-BUSYSTATUS:TENTATIVE
X-MICROSOFT-CDO-INTENDEDSTATUS:BUSY
X-MICROSOFT-CDO-ALLDAYEVENT:FALSE
X-MICROSOFT-CDO-IMPORTANCE:1
X-MICROSOFT-CDO-INSTTYPE:0
X-MICROSOFT-DONOTFORWARDMEETING:FALSE
X-MICROSOFT-DISALLOW-COUNTER:FALSE
BEGIN:VALARM
DESCRIPTION:REMINDER
TRIGGER;RELATED=START:-PT15M
ACTION:DISPLAY
END:VALARM
END:VEVENT
END:VCALENDAR
