BEGIN:VCALENDAR
METHOD:REQUEST
PRODID:Microsoft Exchange Server 2010
VERSION:2.0
BEGIN:VTIMEZONE
TZID:UTC
BEGIN:STANDARD
DTSTART:16010101T000000
TZOFFSETFROM:+0000
TZOFFSETTO:+0000
END:STANDARD
BEGIN:DAYLIGHT
DTSTART:16010101T000000
TZOFFSETFROM:+0000
TZOFFSETTO:+0000
END:DAYLIGHT
END:VTIMEZONE
BEGIN:VEVENT
ORGANIZER;CN=Kimberly Carlson:MAILTO:kimberly.carlson@icann.org
ATTENDEE;ROLE=REQ-PARTICIPANT;PARTSTAT=NEEDS-ACTION;RSVP=TRUE;CN=ifrt-leade
 rship@icann.org:MAILTO:ifrt-leadership@icann.org
ATTENDEE;ROLE=REQ-PARTICIPANT;PARTSTAT=NEEDS-ACTION;RSVP=TRUE;CN=IFRT@icann
 .org:MAILTO:IFRT@icann.org
DESCRIPTION;LANGUAGE=en-US:Dear IFRT\,\n\n\n\nThe IFRT Community webinar ha
 s been scheduled for 29 September at 17:00 UTC.\n\n\n\nPlease find the cal
 l details below:\n\n\n\nWebinar Information\n\nDate:&nbsp\;29 September 20
 20\nTime:&nbsp\;17:00 – 17:30 UTC\nWebinar Link:&nbsp\;https://icann.zoo
 m.us/j/96824197988?pwd=TGpISnFnck1TblpQdkthd0lHUzRxdz09\nPasscode:&nbsp\;I
 FRT_09/29\n\n\n
UID:D93E9022-44F6-4955-9ADC-8DC4B0AFC884
SUMMARY;LANGUAGE=en-US:IFRT Community Webinar | 29 September at 17:00 UTC
DTSTART;TZID=UTC:20200929T170000
DTEND;TZID=UTC:20200929T180000
CLASS:PUBLIC
PRIORITY:5
DTSTAMP:20200925T155911Z
TRANSP:OPAQUE
STATUS:CONFIRMED
SEQUENCE:0
LOCATION;LANGUAGE=en-US:https://icann.zoom.us/j/96824197988?pwd=TGpISnFnck1
 TblpQdkthd0lHUzRxdz09
X-MICROSOFT-CDO-APPT-SEQUENCE:0
X-MICROSOFT-CDO-OWNERAPPTID:2118765217
X-MICROSOFT-CDO-BUSYSTATUS:TENTATIVE
X-MICROSOFT-CDO-INTENDEDSTATUS:BUSY
X-MICROSOFT-CDO-ALLDAYEVENT:FALSE
X-MICROSOFT-CDO-IMPORTANCE:1
X-MICROSOFT-CDO-INSTTYPE:0
X-MICROSOFT-DONOTFORWARDMEETING:FALSE
X-MICROSOFT-DISALLOW-COUNTER:FALSE
BEGIN:VALARM
DESCRIPTION:REMINDER
TRIGGER;RELATED=START:-PT15M
ACTION:DISPLAY
END:VALARM
END:VEVENT
END:VCALENDAR
