BEGIN:VCALENDAR
METHOD:REQUEST
PRODID:Microsoft Exchange Server 2010
VERSION:2.0
BEGIN:VTIMEZONE
TZID:UTC
BEGIN:STANDARD
DTSTART:16010101T000000
TZOFFSETFROM:+0000
TZOFFSETTO:+0000
END:STANDARD
BEGIN:DAYLIGHT
DTSTART:16010101T000000
TZOFFSETFROM:+0000
TZOFFSETTO:+0000
END:DAYLIGHT
END:VTIMEZONE
BEGIN:VEVENT
ORGANIZER;CN=Kimberly Carlson:MAILTO:kimberly.carlson@icann.org
ATTENDEE;ROLE=REQ-PARTICIPANT;PARTSTAT=NEEDS-ACTION;RSVP=TRUE;CN=IFRT@icann
 .org:MAILTO:IFRT@icann.org
ATTENDEE;ROLE=REQ-PARTICIPANT;PARTSTAT=NEEDS-ACTION;RSVP=TRUE;CN=ifrt-leade
 rship@icann.org:MAILTO:ifrt-leadership@icann.org
DESCRIPTION;LANGUAGE=en-US:Dear all\,\n\n\n\nThe Engagement Session with th
 e IANA Naming Function Review Team (IFRT) at ICANN69 has been scheduled fo
 r 22 October from 7:00-8:00 UTC.\n\n\n\nIMPORTANT: In order to access the 
 ICANN69 schedule\, you must first register for ICANN69 here:&nbsp\;https:/
 /events.icann.org/icann69-agm/registration. Once you have registered\, you
  will be able to access the schedule here:&nbsp\;https://69.schedule.icann
 .org/\, sign-up for the sessions of interest and create your agenda.&nbsp\
 ;Please note that participation links will only be published one day prior
  to the sessions for security purposes.\n\n&nbsp\;\n\nHow to Export the Sc
 hedule:\n\nIf you would like to export your agenda to your personal calend
 aring tool\, sign in on your desktop computer and complete the following s
 teps:\n\n   *   Once signed in > Click on&nbsp\;"Schedule"&nbsp\;tab >&nbs
 p\;"Full Agenda"&nbsp\;or&nbsp\;"My Agenda".\n\n   *   Select&nbsp\;"Expor
 t"&nbsp\;>&nbsp\;"Export Full Agenda (ics)"&nbsp\;or&nbsp\;"Export My Agen
 da (ics)".\n\n   *   A file download will begin and save as&nbsp\;"meeting
 s.ics".\n\n   *   Find the downloaded file> Right click on the file\, sele
 ct&nbsp\;"Open-as"&nbsp\;> Select the calendar program you wish to save th
 ese meetings to.\n\n   *   Once the calendar file opens\, click&nbsp\;"Sav
 e". You should now see all your sessions on your calendar program in your 
 preferred time zone.\n\n\nOn mobile devices\, simply open the mobile app t
 o see your personal schedule.\n\n\nNOTE: Calendar invites will not include
  remote participation links\, but do include a link to the session details
  page containing the participation links. Participation links will be post
 ed 24-hours prior to the session start times for security purposes.\n\n\n
UID:5BA1A358-99FB-45EC-A71B-D394BE9567D7
SUMMARY;LANGUAGE=en-US:Engagement Session with the IANA Naming Function Rev
 iew Team (IFRT) | 22 October 7:00-8:00 UTC
DTSTART;TZID=UTC:20201022T070000
DTEND;TZID=UTC:20201022T080000
CLASS:PUBLIC
PRIORITY:5
DTSTAMP:20201019T200027Z
TRANSP:OPAQUE
STATUS:CONFIRMED
SEQUENCE:0
LOCATION;LANGUAGE=en-US:Zoom
X-MICROSOFT-CDO-APPT-SEQUENCE:0
X-MICROSOFT-CDO-OWNERAPPTID:2118818142
X-MICROSOFT-CDO-BUSYSTATUS:TENTATIVE
X-MICROSOFT-CDO-INTENDEDSTATUS:BUSY
X-MICROSOFT-CDO-ALLDAYEVENT:FALSE
X-MICROSOFT-CDO-IMPORTANCE:1
X-MICROSOFT-CDO-INSTTYPE:0
X-MICROSOFT-DONOTFORWARDMEETING:FALSE
X-MICROSOFT-DISALLOW-COUNTER:FALSE
BEGIN:VALARM
DESCRIPTION:REMINDER
TRIGGER;RELATED=START:-PT15M
ACTION:DISPLAY
END:VALARM
END:VEVENT
END:VCALENDAR
