BEGIN:VCALENDAR
METHOD:REQUEST
PRODID:Microsoft Exchange Server 2010
VERSION:2.0
BEGIN:VTIMEZONE
TZID:UTC
BEGIN:STANDARD
DTSTART:16010101T000000
TZOFFSETFROM:+0000
TZOFFSETTO:+0000
END:STANDARD
BEGIN:DAYLIGHT
DTSTART:16010101T000000
TZOFFSETFROM:+0000
TZOFFSETTO:+0000
END:DAYLIGHT
END:VTIMEZONE
BEGIN:VEVENT
ORGANIZER;CN=Kimberly Carlson:MAILTO:kimberly.carlson@icann.org
ATTENDEE;ROLE=REQ-PARTICIPANT;PARTSTAT=NEEDS-ACTION;RSVP=TRUE;CN=IFRT@icann
 .org:MAILTO:IFRT@icann.org
ATTENDEE;ROLE=REQ-PARTICIPANT;PARTSTAT=NEEDS-ACTION;RSVP=TRUE;CN=ifrt-leade
 rship@icann.org:MAILTO:ifrt-leadership@icann.org
ATTENDEE;ROLE=REQ-PARTICIPANT;PARTSTAT=NEEDS-ACTION;RSVP=TRUE;CN=ifrt-obser
 vers@icann.org:MAILTO:ifrt-observers@icann.org
DESCRIPTION;LANGUAGE=en-US:Dear IANA Function Review Team (IFRT)\,\n\n\n\nP
 ublic Comments for the IFRT Initial Report closes on 04 December 2020.&nbs
 p\; https://www.icann.org/public-comments/ifr-initial-report-2020-10-08-en
 . &nbsp\;\n\n\n\nThe IANA Function Review Team (IFRT) teleconference to re
 view comments\, is scheduled for 15 December at 18:00 UTC.&nbsp\;\n\n\n\nP
 lease find the call details below:\n\nJoin Zoom Meeting\n\nhttps://icann.z
 oom.us/j/96397792430?pwd=Nzl2RDV5a29IUHJXRDA0RWhjUFEvZz09\n\n\n\nMeeting I
 D: 963 9779 2430\n\nPasscode: IFRT-12-15\n\n\n\n\n\n\n
UID:319E5688-BDDB-489E-979E-C55FF4D12597
SUMMARY;LANGUAGE=en-US:IANA Function Review Team Teleconference to review c
 omments | 15 December @18:00 UTC
DTSTART;TZID=UTC:20201215T180000
DTEND;TZID=UTC:20201215T193000
CLASS:PUBLIC
PRIORITY:5
DTSTAMP:20201201T180132Z
TRANSP:OPAQUE
STATUS:CONFIRMED
SEQUENCE:0
LOCATION;LANGUAGE=en-US:https://icann.zoom.us/j/96397792430?pwd=Nzl2RDV5a29
 IUHJXRDA0RWhjUFEvZz09 
X-MICROSOFT-CDO-APPT-SEQUENCE:0
X-MICROSOFT-CDO-OWNERAPPTID:2118913929
X-MICROSOFT-CDO-BUSYSTATUS:TENTATIVE
X-MICROSOFT-CDO-INTENDEDSTATUS:BUSY
X-MICROSOFT-CDO-ALLDAYEVENT:FALSE
X-MICROSOFT-CDO-IMPORTANCE:1
X-MICROSOFT-CDO-INSTTYPE:0
X-MICROSOFT-DONOTFORWARDMEETING:FALSE
X-MICROSOFT-DISALLOW-COUNTER:FALSE
BEGIN:VALARM
DESCRIPTION:REMINDER
TRIGGER;RELATED=START:-PT15M
ACTION:DISPLAY
END:VALARM
END:VEVENT
END:VCALENDAR
