BEGIN:VCALENDAR
METHOD:REQUEST
PRODID:Microsoft Exchange Server 2010
VERSION:2.0
BEGIN:VTIMEZONE
TZID:UTC
BEGIN:STANDARD
DTSTART:16010101T000000
TZOFFSETFROM:+0000
TZOFFSETTO:+0000
END:STANDARD
BEGIN:DAYLIGHT
DTSTART:16010101T000000
TZOFFSETFROM:+0000
TZOFFSETTO:+0000
END:DAYLIGHT
END:VTIMEZONE
BEGIN:VEVENT
ORGANIZER;CN=Kimberly Carlson:MAILTO:kimberly.carlson@icann.org
ATTENDEE;ROLE=REQ-PARTICIPANT;PARTSTAT=NEEDS-ACTION;RSVP=TRUE;CN=IFRT@icann
 .org:MAILTO:IFRT@icann.org
ATTENDEE;ROLE=REQ-PARTICIPANT;PARTSTAT=NEEDS-ACTION;RSVP=TRUE;CN=ifrt-leade
 rship@icann.org:MAILTO:ifrt-leadership@icann.org
ATTENDEE;ROLE=REQ-PARTICIPANT;PARTSTAT=NEEDS-ACTION;RSVP=TRUE;CN=ifrt-obser
 vers@icann.org:MAILTO:ifrt-observers@icann.org
DESCRIPTION;LANGUAGE=en-US:Dear IANA Function Review Team (IFRT)\,\n\n\n\nT
 he next IANA Function Review Team (IFRT) teleconference is scheduled for 1
 2 January at 18:00 UTC.&nbsp\;\n\n\n\nPlease find the call details below:\
 n\nJoin Zoom Meeting\n\nhttps://icann.zoom.us/j/98881797217?pwd=bmhHWEg3d1
 JrS2l3S1E5dVU4dlNEdz09\n\n\n\nMeeting ID: 988 8179 7217\n\nPasscode: IFRT-
 01/12\n
UID:18E7AE10-102E-4092-A8ED-05E38F3749BC
SUMMARY;LANGUAGE=en-US:IANA Function Review Team (IFRT) teleconference | 12
  January at 18:00 UTC
DTSTART;TZID=UTC:20210112T180000
DTEND;TZID=UTC:20210112T193000
CLASS:PUBLIC
PRIORITY:5
DTSTAMP:20210104T144950Z
TRANSP:OPAQUE
STATUS:CONFIRMED
SEQUENCE:0
LOCATION;LANGUAGE=en-US:https://icann.zoom.us/j/98881797217?pwd=bmhHWEg3d1J
 rS2l3S1E5dVU4dlNEdz09 
X-MICROSOFT-CDO-APPT-SEQUENCE:0
X-MICROSOFT-CDO-OWNERAPPTID:2119247392
X-MICROSOFT-CDO-BUSYSTATUS:TENTATIVE
X-MICROSOFT-CDO-INTENDEDSTATUS:BUSY
X-MICROSOFT-CDO-ALLDAYEVENT:FALSE
X-MICROSOFT-CDO-IMPORTANCE:1
X-MICROSOFT-CDO-INSTTYPE:0
X-MICROSOFT-DONOTFORWARDMEETING:FALSE
X-MICROSOFT-DISALLOW-COUNTER:FALSE
BEGIN:VALARM
DESCRIPTION:REMINDER
TRIGGER;RELATED=START:-PT15M
ACTION:DISPLAY
END:VALARM
END:VEVENT
END:VCALENDAR
