BEGIN:VCALENDAR
METHOD:REQUEST
PRODID:Microsoft Exchange Server 2010
VERSION:2.0
BEGIN:VTIMEZONE
TZID:GMT Standard Time
BEGIN:STANDARD
DTSTART:16010101T020000
TZOFFSETFROM:+0100
TZOFFSETTO:+0000
RRULE:FREQ=YEARLY;INTERVAL=1;BYDAY=-1SU;BYMONTH=10
END:STANDARD
BEGIN:DAYLIGHT
DTSTART:16010101T010000
TZOFFSETFROM:+0000
TZOFFSETTO:+0100
RRULE:FREQ=YEARLY;INTERVAL=1;BYDAY=-1SU;BYMONTH=3
END:DAYLIGHT
END:VTIMEZONE
BEGIN:VEVENT
ORGANIZER;CN=Lauren Allison:MAILTO:lauren.allison@icann.org
ATTENDEE;ROLE=REQ-PARTICIPANT;PARTSTAT=NEEDS-ACTION;RSVP=TRUE;CN=publicinte
 rest@icann.org:MAILTO:publicinterest@icann.org
DESCRIPTION;LANGUAGE=en-US:Overview:\nDiscussions on the topic of the "publ
 ic interest within ICANN's remit" and potential definitions of this term h
 ave been ongoing for years.\n\nIn 2013-2014\, the Strategy Panel on Public
  Responsibility Framework\, led by Nii Quaynor\, explored this topic. Base
 d on community input at sessions and webinars\, the Panel defined the glob
 al public interest in relation to the Internet as:\n\n   *   "ensuring tha
 t the Internet becomes\, and continues to be\, stable\, inclusive\, and ac
 cessible across the globe so that all may enjoy the benefits of a single a
 nd open Internet. In addressing its public responsibility\, ICANN must bui
 ld trust in the Internet and its governance ecosystem."\nWhile some recomm
 ended the report\, at individual and ICANN meetings\, and at ICANN 52 in p
 articular\, it is evident there is a need and a desire to revisit this top
 ic.\n\nGiven limits on bandwidth for additional projects\, and given the i
 ntense focus on other ongoing dialogues\, a wikispace was established as a
  resource space for all to populate with background documents that will be
  useful in guiding this conversation forward.\n\nAs set out in the ICANN O
 perating and Strategic Plans\, ICANN will be facilitating a conversation i
 n Financial Year 16 to explore the "public interest" within ICANN's missio
 n and mandate\, and this High Interest Session will form an important part
  of this work.\n\nhttps://meetings.icann.org/en/marrakech55/schedule/mon-p
 ublic-interest-remit\n
SUMMARY;LANGUAGE=en-US:High Interest Session: Exploring the Public Interest
  Within ICANN's Remit
DTSTART;TZID=GMT Standard Time:20160307T151500
DTEND;TZID=GMT Standard Time:20160307T163000
UID:node-8359-0@meetings.icann.org
CLASS:PUBLIC
PRIORITY:5
DTSTAMP:20160222T172608Z
TRANSP:OPAQUE
STATUS:CONFIRMED
SEQUENCE:0
LOCATION;LANGUAGE=en-US:Atlas- https://meetings.icann.org/en/marrakech55/sc
 hedule/mon-public-interest-remit 
X-MICROSOFT-CDO-APPT-SEQUENCE:0
X-MICROSOFT-CDO-OWNERAPPTID:2114107387
X-MICROSOFT-CDO-BUSYSTATUS:TENTATIVE
X-MICROSOFT-CDO-INTENDEDSTATUS:BUSY
X-MICROSOFT-CDO-ALLDAYEVENT:FALSE
X-MICROSOFT-CDO-IMPORTANCE:1
X-MICROSOFT-CDO-INSTTYPE:0
X-MICROSOFT-DISALLOW-COUNTER:FALSE
END:VEVENT
END:VCALENDAR
