BEGIN:VCALENDAR
PRODID:-//Google Inc//Google Calendar 70.9054//EN
VERSION:2.0
CALSCALE:GREGORIAN
METHOD:REQUEST
BEGIN:VEVENT
DTSTART:20190415T190000Z
DTEND:20190415T200000Z
DTSTAMP:20190412T160524Z
ORGANIZER;CN=olivierkouami@gmail.com:mailto:olivierkouami@gmail.com
UID:6kr3ecb3c5gm2b9lc8q36b9k68qj2b9p60q34b9j75hm6pb569i68oj5cg@google.com
ATTENDEE;CUTYPE=INDIVIDUAL;ROLE=REQ-PARTICIPANT;PARTSTAT=NEEDS-ACTION;RSVP=
 TRUE;CN=evin.erdogdu@icann.org;X-NUM-GUESTS=0:mailto:evin.erdogdu@icann.org
ATTENDEE;CUTYPE=INDIVIDUAL;ROLE=REQ-PARTICIPANT;PARTSTAT=NEEDS-ACTION;RSVP=
 TRUE;CN=claudia.ruiz@icann.org;X-NUM-GUESTS=0:mailto:claudia.ruiz@icann.org
ATTENDEE;CUTYPE=INDIVIDUAL;ROLE=REQ-PARTICIPANT;PARTSTAT=NEEDS-ACTION;RSVP=
 TRUE;CN=michelle.desmyter@icann.org;X-NUM-GUESTS=0:mailto:michelle.desmyter
 @icann.org
ATTENDEE;CUTYPE=INDIVIDUAL;ROLE=REQ-PARTICIPANT;PARTSTAT=NEEDS-ACTION;RSVP=
 TRUE;CN=andrea.glandon@icann.org;X-NUM-GUESTS=0:mailto:andrea.glandon@icann
 .org
ATTENDEE;CUTYPE=INDIVIDUAL;ROLE=REQ-PARTICIPANT;PARTSTAT=NEEDS-ACTION;RSVP=
 TRUE;CN=don.hollander@icann.org;X-NUM-GUESTS=0:mailto:don.hollander@icann.o
 rg
ATTENDEE;CUTYPE=INDIVIDUAL;ROLE=REQ-PARTICIPANT;PARTSTAT=NEEDS-ACTION;RSVP=
 TRUE;CN=silvia.vivanco@icann.org;X-NUM-GUESTS=0:mailto:silvia.vivanco@icann
 .org
ATTENDEE;CUTYPE=INDIVIDUAL;ROLE=REQ-PARTICIPANT;PARTSTAT=NEEDS-ACTION;RSVP=
 TRUE;CN=heidi.ullrich@icann.org;X-NUM-GUESTS=0:mailto:heidi.ullrich@icann.o
 rg
ATTENDEE;CUTYPE=INDIVIDUAL;ROLE=REQ-PARTICIPANT;PARTSTAT=NEEDS-ACTION;RSVP=
 TRUE;CN=yesim.nazlar@icann.org;X-NUM-GUESTS=0:mailto:yesim.nazlar@icann.org
ATTENDEE;CUTYPE=INDIVIDUAL;ROLE=REQ-PARTICIPANT;PARTSTAT=NEEDS-ACTION;RSVP=
 TRUE;CN=gisella.gruber@icann.org;X-NUM-GUESTS=0:mailto:gisella.gruber@icann
 .org
ATTENDEE;CUTYPE=INDIVIDUAL;ROLE=REQ-PARTICIPANT;PARTSTAT=NEEDS-ACTION;RSVP=
 TRUE;CN=jzuck@innovatorsnetwork.org;X-NUM-GUESTS=0:mailto:jzuck@innovatorsn
 etwork.org
ATTENDEE;CUTYPE=INDIVIDUAL;ROLE=REQ-PARTICIPANT;PARTSTAT=NEEDS-ACTION;RSVP=
 TRUE;CN=social-media-wg@atlarge-lists.icann.org;X-NUM-GUESTS=0:mailto:socia
 l-media-wg@atlarge-lists.icann.org
X-MICROSOFT-CDO-OWNERAPPTID:-2017135195
CREATED:20190412T160520Z
DESCRIPTION:-::~:~::~:~:~:~:~:~:~:~:~:~:~:~:~:~:~:~:~:~:~:~:~:~:~:~:~:~:~:~
 :~:~:~:~:~:~:~:~::~:~::-\nVeuillez ne pas modifier cette section de la desc
 ription.\n\nAffichez votre événement sur la page https://www.google.com/cal
 endar/event?action=VIEW&eid=NmtyM2VjYjNjNWdtMmI5bGM4cTM2YjlrNjhxajJiOXA2MHE
 zNGI5ajc1aG02cGI1NjlpNjhvajVjZyBzb2NpYWwtbWVkaWEtd2dAYXRsYXJnZS1saXN0cy5pY2
 Fubi5vcmc&tok=MjMjb2xpdmllcmtvdWFtaUBnbWFpbC5jb21jZWQ0NWFhNzkyNGVhYjdlOGMwN
 WZjNjQ3YjRkMDkyNmNlZDY1MjY1&ctz=Africa%2FAbidjan&hl=fr&es=1.\n-::~:~::~:~:~
 :~:~:~:~:~:~:~:~:~:~:~:~:~:~:~:~:~:~:~:~:~:~:~:~:~:~:~:~:~:~:~:~:~::~:~::-
LAST-MODIFIED:20190412T160521Z
LOCATION:19:00 UTC - ADIGO 1638 - https://participate.icann.org/at-large-so
 cial-media-wg/
SEQUENCE:0
STATUS:CONFIRMED
SUMMARY:At-Large Social Media Working Group Call
TRANSP:OPAQUE
BEGIN:VALARM
ACTION:EMAIL
DESCRIPTION:This is an event reminder
SUMMARY:Alarm notification
ATTENDEE:mailto:social-media-wg@atlarge-lists.icann.org
TRIGGER:-P0DT0H30M0S
END:VALARM
BEGIN:VALARM
ACTION:DISPLAY
DESCRIPTION:This is an event reminder
TRIGGER:-P0DT0H30M0S
END:VALARM
END:VEVENT
END:VCALENDAR
