BEGIN:VCALENDAR
METHOD:REQUEST
PRODID:Microsoft Exchange Server 2010
VERSION:2.0
BEGIN:VTIMEZONE
TZID:UTC
BEGIN:STANDARD
DTSTART:16010101T000000
TZOFFSETFROM:+0000
TZOFFSETTO:+0000
END:STANDARD
BEGIN:DAYLIGHT
DTSTART:16010101T000000
TZOFFSETFROM:+0000
TZOFFSETTO:+0000
END:DAYLIGHT
END:VTIMEZONE
BEGIN:VEVENT
ORGANIZER;CN=ICANN Policy Calendar:MAILTO:PolicyCalendar@icann.org
ATTENDEE;ROLE=REQ-PARTICIPANT;PARTSTAT=NEEDS-ACTION;RSVP=TRUE;CN=Heidi Ullr
 ich:MAILTO:Heidi.Ullrich@icann.org
ATTENDEE;ROLE=REQ-PARTICIPANT;PARTSTAT=NEEDS-ACTION;RSVP=TRUE;CN=Silvia Viv
 anco:MAILTO:silvia.vivanco@icann.org
ATTENDEE;ROLE=REQ-PARTICIPANT;PARTSTAT=NEEDS-ACTION;RSVP=TRUE;CN=Gisella Gr
 uber:MAILTO:Gisella.Gruber@icann.org
ATTENDEE;ROLE=REQ-PARTICIPANT;PARTSTAT=NEEDS-ACTION;RSVP=TRUE;CN=Evin Erdog
 du:MAILTO:evin.erdogdu@icann.org
ATTENDEE;ROLE=REQ-PARTICIPANT;PARTSTAT=NEEDS-ACTION;RSVP=TRUE;CN=Andrea Gla
 ndon:MAILTO:andrea.glandon@icann.org
ATTENDEE;ROLE=REQ-PARTICIPANT;PARTSTAT=NEEDS-ACTION;RSVP=TRUE;CN=Claudia Ru
 iz:MAILTO:claudia.ruiz@icann.org
ATTENDEE;ROLE=REQ-PARTICIPANT;PARTSTAT=NEEDS-ACTION;RSVP=TRUE;CN=Michelle D
 eSmyter:MAILTO:michelle.desmyter@icann.org
ATTENDEE;ROLE=REQ-PARTICIPANT;PARTSTAT=NEEDS-ACTION;RSVP=TRUE;CN=Yesim Nazl
 ar:MAILTO:yesim.nazlar@icann.org
ATTENDEE;ROLE=REQ-PARTICIPANT;PARTSTAT=NEEDS-ACTION;RSVP=TRUE;CN=Don Hollan
 der:MAILTO:don.hollander@icann.org
ATTENDEE;ROLE=REQ-PARTICIPANT;PARTSTAT=NEEDS-ACTION;RSVP=TRUE;CN=Jonathan Z
 uck:MAILTO:JZuck@innovatorsnetwork.org
ATTENDEE;ROLE=REQ-PARTICIPANT;PARTSTAT=NEEDS-ACTION;RSVP=TRUE;CN=social-med
 ia-wg@atlarge-lists.icann.org:MAILTO:social-media-wg@atlarge-lists.icann.o
 rg
ATTENDEE;ROLE=OPT-PARTICIPANT;PARTSTAT=NEEDS-ACTION;RSVP=TRUE;CN=Bram Fudzu
 lani:MAILTO:beatblam@hotmail.com
ATTENDEE;ROLE=OPT-PARTICIPANT;PARTSTAT=NEEDS-ACTION;RSVP=TRUE;CN=abdeldjali
 l.bachar@gmail.com:MAILTO:abdeldjalil.bachar@gmail.com
ATTENDEE;ROLE=OPT-PARTICIPANT;PARTSTAT=NEEDS-ACTION;RSVP=TRUE;CN=Maritza Y.
  Aguero Minano:MAILTO:myaguero@msn.com
ATTENDEE;ROLE=OPT-PARTICIPANT;PARTSTAT=NEEDS-ACTION;RSVP=TRUE;CN=dndannang@
 gmail.com:MAILTO:dndannang@gmail.com
ATTENDEE;ROLE=OPT-PARTICIPANT;PARTSTAT=NEEDS-ACTION;RSVP=TRUE;CN=joanhopek@
 gmail.com:MAILTO:joanhopek@gmail.com
ATTENDEE;ROLE=OPT-PARTICIPANT;PARTSTAT=NEEDS-ACTION;RSVP=TRUE;CN=r.gnanajey
 araman@gmail.com:MAILTO:r.gnanajeyaraman@gmail.com
ATTENDEE;ROLE=OPT-PARTICIPANT;PARTSTAT=NEEDS-ACTION;RSVP=TRUE;CN=weaker41@g
 mail.com:MAILTO:weaker41@gmail.com
ATTENDEE;ROLE=OPT-PARTICIPANT;PARTSTAT=NEEDS-ACTION;RSVP=TRUE;CN=bukkiephar
 worley@gmail.com:MAILTO:bukkiepharworley@gmail.com
ATTENDEE;ROLE=OPT-PARTICIPANT;PARTSTAT=NEEDS-ACTION;RSVP=TRUE;CN=langdonorr
 @gmail.com:MAILTO:langdonorr@gmail.com
ATTENDEE;ROLE=OPT-PARTICIPANT;PARTSTAT=NEEDS-ACTION;RSVP=TRUE;CN=Matthias M
 . Hudobnik:MAILTO:matthias@hudobnik.at
DESCRIPTION;LANGUAGE=en-US:Dear All\,\n\n\n\nFurther to the doodle poll\, t
 he next At-Large Social Media Working Group Call is scheduled on Monday\, 
 15 April 2019 at 19:00 UTC.\n\n\n\nFor other times: https://tinyurl.com/y3
 pnrvco\n\n\n\nThe agenda (to be updated) and call details can be found at:
  https://community.icann.org/x/GwF1Bg\n\n\n\nWiki Workspace: https://commu
 nity.icann.org/x/nIrhAg\n\n\n\nAdobe Connect: https://participate.icann.or
 g/at-large-social-media-wg/\n\n\n\nConference ID:\n\nEN: 1638\n\n\n\nToll-
 free access number (US and Canada): 800 550 6865\n\n\n\nOther toll-free nu
 mbers: http://adigo.com/icann/\n\n\n\nIf you require a dial-out please con
 tact At-Large staff at staff@atlarge.icann.org<mailto:staff@atlarge.icann.
 org> with your preferred number.\n\n\n\n\n\nThank you.\n\nKind regards\,\n
 \n\n\nAt-Large Staff\n\nICANN Policy Staff in support of the At-Large Comm
 unity\n\nWebsite: atlarge.icann.org<https://atlarge.icann.org/>\n\nFaceboo
 k: facebook.com/icann<https://www.facebook.com/icannatlarge>atlarge<https:
 //www.facebook.com/icannatlarge>\n\nTwitter: @<https://twitter.com/ICANNAt
 Large>ICANNAtLarge<https://twitter.com/ICANNAtLarge>\n\n\n
SUMMARY;LANGUAGE=en-US:At-Large Social Media Working Group Call
DTSTART;TZID=UTC:20190415T190000
DTEND;TZID=UTC:20190415T200000
UID:2CE79B48-DC03-4FF4-B069-8822427A5BB1
CLASS:PUBLIC
PRIORITY:5
DTSTAMP:20190415T095847Z
TRANSP:OPAQUE
STATUS:CONFIRMED
SEQUENCE:1
LOCATION;LANGUAGE=en-US:19:00 UTC - ADIGO 1638 - https://participate.icann.
 org/at-large-social-media-wg/
X-MICROSOFT-CDO-APPT-SEQUENCE:1
X-MICROSOFT-CDO-OWNERAPPTID:2117362167
X-MICROSOFT-CDO-BUSYSTATUS:TENTATIVE
X-MICROSOFT-CDO-INTENDEDSTATUS:BUSY
X-MICROSOFT-CDO-ALLDAYEVENT:FALSE
X-MICROSOFT-CDO-IMPORTANCE:1
X-MICROSOFT-CDO-INSTTYPE:0
X-MICROSOFT-DISALLOW-COUNTER:FALSE
END:VEVENT
END:VCALENDAR
