BEGIN:VCALENDAR
VERSION:2.0
PRODID:-//Microsoft Corporation//Outlook for Mac MIMEDIR//EN
METHOD:PUBLISH
BEGIN:VTIMEZONE
TZID:Coordinated Universal Time
X-ENTOURAGE-CFTIMEZONE:UTC
X-ENTOURAGE-TZID:93
BEGIN:STANDARD
TZOFFSETFROM:+0000
TZOFFSETTO:+0000
DTSTART:16010101T000000
END:STANDARD
END:VTIMEZONE
BEGIN:VEVENT
UID:2ADA3D9E-026B-4DD8-8387-BC4375319129
X-ENTOURAGE_UUID:2ADA3D9E-026B-4DD8-8387-BC4375319129
X-MICROSOFT-EXCHANGE-ID:AAMkADFlMDNlNjQ5LTNjNTUtNDJkMC04ZTI0LWFiMTFkOTgwND
 JhMQBGAAAAAAAdZPIZTDF9SJl4Q9bAl0gQBwAFskP3JLIoSYZSK2rNBQTXAIjV8WqdAAANV5p2
 g4V9S6g+Ry+Q0bRJAASZmfy8AAA=
X-MICROSOFT-EXCHANGE-CHANGEKEY:DwAAABYAAAANV5p2g4V9S6g+Ry+Q0bRJAASZsY65
DTSTAMP:20190610T114740Z
DTSTART;TZID="Coordinated Universal Time":20190612T130000
DTEND;TZID="Coordinated Universal Time":20190612T140000
LAST-MODIFIED:20190610T114740Z
SUMMARY:At-Large Social Media Working Group Call
DESCRIPTION:Dear All\,\n\n\n\nFurther to the Doodle poll\, the next
  At-Large Social Media Working Group Call is scheduled on Wednesday\, 12
  June 2019 at 13:00 UTC.\n\n\n\nFor other times:
  https://tinyurl.com/y2wb4arj \n\n\n\nThe agenda (to be updated) and call
  details can be found at: https://community.icann.org/x/sZWjBg
  \n\n\n\nWiki Workspace: https://community.icann.org/x/nIrhAg
  \n\n\n\nZoom Link: https://icann.zoom.us/j/386655371 \n\n\n\nConference
  ID:\n\nEN: 1638\n\n\n\nToll-free access number (US and Canada): 800 550
  6865\n\n\n\nOther toll-free numbers: http://adigo.com/icann/ \n\n\n\nIf
  you require a dial-out please contact At-Large staff at
  staff@atlarge.icann.org with your preferred number.\n\n\n\n\n\nThank
  you.\n\nKind regards\,\n\n\n\nAt-Large Staff \n\nICANN Policy Staff in
  support of the At-Large Community\n\nWebsite: atlarge.icann.org
  \n\nFacebook: facebook.com/icannatlarge\n\nTwitter:
  @ICANNAtLarge\n\n\n\n\n\n\n
LOCATION:13:00 UTC - ADIGO 1638 - https://icann.zoom.us/j/386655371
ORGANIZER:MAILTO:PolicyCalendar@icann.org
SEQUENCE:0
ATTENDEE;ROLE=REQ-PARTICIPANT;RSVP=FALSE;CN="Heidi
  Ullrich";PARTSTAT=NEEDS-ACTION:MAILTO:Heidi.Ullrich@icann.org
ATTENDEE;ROLE=REQ-PARTICIPANT;RSVP=FALSE;CN="Silvia
  Vivanco";PARTSTAT=NEEDS-ACTION:MAILTO:silvia.vivanco@icann.org
ATTENDEE;ROLE=REQ-PARTICIPANT;RSVP=FALSE;CN="Gisella
  Gruber";PARTSTAT=NEEDS-ACTION:MAILTO:Gisella.Gruber@icann.org
ATTENDEE;ROLE=REQ-PARTICIPANT;RSVP=FALSE;CN="Evin
  Erdogdu";PARTSTAT=NEEDS-ACTION:MAILTO:evin.erdogdu@icann.org
ATTENDEE;ROLE=REQ-PARTICIPANT;RSVP=FALSE;CN="Claudia
  Ruiz";PARTSTAT=NEEDS-ACTION:MAILTO:claudia.ruiz@icann.org
ATTENDEE;ROLE=REQ-PARTICIPANT;RSVP=FALSE;CN="Michelle
  DeSmyter";PARTSTAT=NEEDS-ACTION:MAILTO:michelle.desmyter@icann.org
ATTENDEE;ROLE=REQ-PARTICIPANT;RSVP=FALSE;CN="Yesim
  Nazlar";PARTSTAT=ACCEPTED:MAILTO:yesim.nazlar@icann.org
ATTENDEE;ROLE=REQ-PARTICIPANT;RSVP=FALSE;CN=social-media-wg@atlarge-lists.
 icann.org;PARTSTAT=NEEDS-ACTION:MAILTO:social-media-wg@atlarge-lists.icann
 .org
ATTENDEE;ROLE=OPT-PARTICIPANT;RSVP=FALSE;CN=weaker41@gmail.com;PARTSTAT=AC
 CEPTED:MAILTO:weaker41@gmail.com
X-MICROSOFT-CDO-BUSYSTATUS:BUSY
X-MICROSOFT-CDO-ALLDAYEVENT:FALSE
X-MICROSOFT-DISALLOW-COUNTER:FALSE
X-MICROSOFT-DONOTFORWARDMEETING:FALSE
X-MICROSOFT-CDO-INSTTYPE:0
END:VEVENT
END:VCALENDAR
