BEGIN:VCALENDAR
METHOD:REQUEST
PRODID:Microsoft Exchange Server 2010
VERSION:2.0
BEGIN:VTIMEZONE
TZID:UTC
BEGIN:STANDARD
DTSTART:16010101T000000
TZOFFSETFROM:+0000
TZOFFSETTO:+0000
END:STANDARD
BEGIN:DAYLIGHT
DTSTART:16010101T000000
TZOFFSETFROM:+0000
TZOFFSETTO:+0000
END:DAYLIGHT
END:VTIMEZONE
BEGIN:VEVENT
ORGANIZER;CN=ICANN Policy Calendar:MAILTO:PolicyCalendar@icann.org
ATTENDEE;ROLE=REQ-PARTICIPANT;PARTSTAT=NEEDS-ACTION;RSVP=FALSE;CN=ICANN Pol
 icy Calendar:MAILTO:PolicyCalendar@icann.org
ATTENDEE;ROLE=REQ-PARTICIPANT;PARTSTAT=NEEDS-ACTION;RSVP=FALSE;CN=Heidi Ull
 rich:MAILTO:Heidi.Ullrich@icann.org
ATTENDEE;ROLE=REQ-PARTICIPANT;PARTSTAT=NEEDS-ACTION;RSVP=FALSE;CN=Silvia Vi
 vanco:MAILTO:silvia.vivanco@icann.org
ATTENDEE;ROLE=REQ-PARTICIPANT;PARTSTAT=NEEDS-ACTION;RSVP=FALSE;CN=Gisella G
 ruber:MAILTO:Gisella.Gruber@icann.org
ATTENDEE;ROLE=REQ-PARTICIPANT;PARTSTAT=NEEDS-ACTION;RSVP=FALSE;CN=Evin Erdo
 gdu:MAILTO:evin.erdogdu@icann.org
ATTENDEE;ROLE=REQ-PARTICIPANT;PARTSTAT=NEEDS-ACTION;RSVP=FALSE;CN=Claudia R
 uiz:MAILTO:claudia.ruiz@icann.org
ATTENDEE;ROLE=REQ-PARTICIPANT;PARTSTAT=NEEDS-ACTION;RSVP=FALSE;CN=Yesim Naz
 lar:MAILTO:yesim.nazlar@icann.org
ATTENDEE;ROLE=REQ-PARTICIPANT;PARTSTAT=NEEDS-ACTION;RSVP=FALSE;CN=social-me
 dia-wg@atlarge-lists.icann.org:MAILTO:social-media-wg@atlarge-lists.icann.
 org
DESCRIPTION;LANGUAGE=en-US:****This meeting will be on ZOOM only\, we will 
 not be using Adigo for this meeting*****\n\n\n\nDear All\,\n\n\n\nFurther 
 to the Doodle poll\, the next At-Large Social Media Working Group Call is 
 scheduled on Monday\, 30 September 2019 at 17:00 UTC.\n\n\n\nFor other tim
 es: https://tinyurl.com/y2ewg3v3\n\n\n\nThe agenda (to be updated) and cal
 l details can be found at: https://community.icann.org/x/55ICBw\n\n\n\nWik
 i Workspace: https://community.icann.org/x/nIrhAg\n\n\n\nZoom Link: https:
 //icann.zoom.us/j/398052011 /<https://icann.zoom.us/j/398052011%20/> Meeti
 ng ID: 398-052-011\n\n\n\n\n\nIf you require a dial-out please contact At-
 Large staff at staff@atlarge.icann.org<mailto:staff@atlarge.icann.org> wit
 h your preferred number.\n\n\n\n\n\nThank you.\n\nKind regards\,\n\n\n\nAt
 -Large Staff\n\nICANN Policy Staff in support of the At-Large Community\n\
 nWebsite: atlarge.icann.org<https://atlarge.icann.org/>\n\nFacebook: faceb
 ook.com/icann<https://www.facebook.com/icannatlarge>atlarge<https://www.fa
 cebook.com/icannatlarge>\n\nTwitter: @<https://twitter.com/ICANNAtLarge>IC
 ANNAtLarge<https://twitter.com/ICANNAtLarge>\n\n\n\n\n
SUMMARY;LANGUAGE=en-US:At-Large Social Media Working Group Call 
DTSTART;TZID=UTC:20190930T170000
DTEND;TZID=UTC:20190930T180000
UID:E5ADBCE4-77B8-41C9-B513-41185F8382EF
CLASS:PUBLIC
PRIORITY:5
DTSTAMP:20190926T003335Z
TRANSP:OPAQUE
STATUS:CONFIRMED
SEQUENCE:1
LOCATION;LANGUAGE=en-US:17:00 UTC - https://icann.zoom.us/j/398052011 /
X-MICROSOFT-CDO-APPT-SEQUENCE:1
X-MICROSOFT-CDO-OWNERAPPTID:2117717137
X-MICROSOFT-CDO-BUSYSTATUS:TENTATIVE
X-MICROSOFT-CDO-INTENDEDSTATUS:BUSY
X-MICROSOFT-CDO-ALLDAYEVENT:FALSE
X-MICROSOFT-CDO-IMPORTANCE:1
X-MICROSOFT-CDO-INSTTYPE:0
X-MICROSOFT-DISALLOW-COUNTER:FALSE
BEGIN:VALARM
DESCRIPTION:REMINDER
TRIGGER;RELATED=START:-PT15M
ACTION:DISPLAY
END:VALARM
END:VEVENT
END:VCALENDAR
