BEGIN:VCALENDAR
VERSION:2.0
PRODID:-//Microsoft Corporation//Outlook for Mac MIMEDIR//EN
METHOD:PUBLISH
BEGIN:VTIMEZONE
TZID:Coordinated Universal Time
X-ENTOURAGE-CFTIMEZONE:UTC
X-ENTOURAGE-TZID:93
BEGIN:STANDARD
TZOFFSETFROM:+0000
TZOFFSETTO:+0000
DTSTART:16010101T000000
END:STANDARD
END:VTIMEZONE
BEGIN:VEVENT
UID:72736168-F3EB-4E7F-B3BD-D9E39CA9AF20
X-ENTOURAGE_UUID:72736168-F3EB-4E7F-B3BD-D9E39CA9AF20
X-MICROSOFT-EXCHANGE-ID:AAMkADFlMDNlNjQ5LTNjNTUtNDJkMC04ZTI0LWFiMTFkOTgwND
 JhMQBGAAAAAAAdZPIZTDF9SJl4Q9bAl0gQBwAFskP3JLIoSYZSK2rNBQTXAIjV8WqdAAANV5p2
 g4V9S6g+Ry+Q0bRJAAVRSbx4AAA=
X-MICROSOFT-EXCHANGE-CHANGEKEY:DwAAABYAAAANV5p2g4V9S6g+Ry+Q0bRJAAVRbXkk
DTSTAMP:20200303T190057Z
DTSTART;TZID="Coordinated Universal Time":20200304T160000
DTEND;TZID="Coordinated Universal Time":20200304T170000
LAST-MODIFIED:20200303T190059Z
SUMMARY:At-Large Social Media Working Group Call 
DESCRIPTION:***If you require a dial out or need to state an apology\,
  please contact At-Large staff at staff@atlarge.icann.org with your
  preferred number***\n\n \n\n\n\nDear All\,\n\n\n\nFurther to the Doodle
  poll below\, the next At-Large Social Media Working Group Call is
  scheduled on Wednesday\, 04 March 2020 at 16:00 UTC.\n\n\n\nFor other
  times: https://tinyurl.com/yx5nsjnr\n\n\n\nThe agenda (to be updated)
  and call details can be found at:
  https://community.icann.org/x/QCKJBw\n\n\n\nWiki Workspace:
  https://community.icann.org/x/nIrhAg \n\n\n\nZoom Link:
  https://icann.zoom.us/j/487575750  Meeting ID: 487-575-750
  \n\n\n\nConference ID:\n\nEN: 1638\n\n\n\nToll-free access number (US
  and Canada): 800 550 6865\n\n\n\nOther toll-free numbers:
  https://www.adigo.com/icann\n\n\n\n\n\nIf you require a dial-out please
  contact At-Large staff at staff@atlarge.icann.org with your preferred
  number.\n\n\n\n\n\nThank you.\n\nKind regards\,\n\n\n\nAt-Large Staff
  \n\nICANN Policy Staff in support of the At-Large Community\n\nWebsite:
  atlarge.icann.org \n\nFacebook: facebook.com/icannatlarge\n\nTwitter:
  @ICANNAtLarge\n\n\n\n\nDear All\,\n\n \n\nPlease complete the doodle to
  schedule the next At-Large Social Media Working Group Call for this
  week.\n\n \n\nDoodle:  https://doodle.com/poll/z9p5abq6mu2xqkbz\n\n
  \n\nI have enabled the time zone so that it can be changed to your
  zone.\n\n  \n\nThis doodle will close asap.\n\n \n\n \n\nThank
  you.\n\nKind Regards\,\n\nYeşim Nazlar\n\n \n\n \n\n \n\n\n\n\n\n\n
LOCATION:16:00 UTC - ADIGO: 1638 - https://icann.zoom.us/j/487575750
ORGANIZER:MAILTO:PolicyCalendar@icann.org
SEQUENCE:0
ATTENDEE;ROLE=REQ-PARTICIPANT;RSVP=FALSE;PARTSTAT=NEEDS-ACTION:MAILTO:soci
 al-media-wg@atlarge-lists.icann.org
ATTENDEE;ROLE=REQ-PARTICIPANT;RSVP=FALSE;CN="Heidi
  Ullrich";PARTSTAT=NEEDS-ACTION:MAILTO:Heidi.Ullrich@icann.org
ATTENDEE;ROLE=REQ-PARTICIPANT;RSVP=FALSE;CN="Gisella
  Gruber";PARTSTAT=NEEDS-ACTION:MAILTO:Gisella.Gruber@icann.org
ATTENDEE;ROLE=REQ-PARTICIPANT;RSVP=FALSE;CN="Evin
  Erdogdu";PARTSTAT=NEEDS-ACTION:MAILTO:evin.erdogdu@icann.org
ATTENDEE;ROLE=REQ-PARTICIPANT;RSVP=FALSE;CN="Silvia
  Vivanco";PARTSTAT=NEEDS-ACTION:MAILTO:silvia.vivanco@icann.org
ATTENDEE;ROLE=REQ-PARTICIPANT;RSVP=FALSE;CN="Yesim
  Nazlar";PARTSTAT=NEEDS-ACTION:MAILTO:yesim.nazlar@icann.org
ATTENDEE;ROLE=REQ-PARTICIPANT;RSVP=FALSE;CN="Claudia
  Ruiz";PARTSTAT=NEEDS-ACTION:MAILTO:claudia.ruiz@icann.org
ATTENDEE;ROLE=REQ-PARTICIPANT;RSVP=FALSE;CN="Alperen
  Eken";PARTSTAT=NEEDS-ACTION:MAILTO:alperen.eken@icann.org
ATTENDEE;ROLE=REQ-PARTICIPANT;RSVP=FALSE;CN="Christina
  Rodriguez";PARTSTAT=NEEDS-ACTION:MAILTO:christina.rodriguez@icann.org
ATTENDEE;ROLE=REQ-PARTICIPANT;RSVP=FALSE;CN="Michelle
  DeSmyter";PARTSTAT=NEEDS-ACTION:MAILTO:michelle.desmyter@icann.org
X-MICROSOFT-CDO-BUSYSTATUS:BUSY
X-MICROSOFT-CDO-ALLDAYEVENT:FALSE
X-MICROSOFT-DISALLOW-COUNTER:TRUE
X-MICROSOFT-DONOTFORWARDMEETING:FALSE
X-MICROSOFT-CDO-INSTTYPE:0
BEGIN:VALARM
ACTION:DISPLAY
DESCRIPTION:REMINDER
TRIGGER;RELATED=START:-PT00H15M00S
END:VALARM
END:VEVENT
END:VCALENDAR
