BEGIN:VCALENDAR
METHOD:REQUEST
PRODID:Microsoft Exchange Server 2010
VERSION:2.0
BEGIN:VTIMEZONE
TZID:UTC
BEGIN:STANDARD
DTSTART:16010101T000000
TZOFFSETFROM:+0000
TZOFFSETTO:+0000
END:STANDARD
BEGIN:DAYLIGHT
DTSTART:16010101T000000
TZOFFSETFROM:+0000
TZOFFSETTO:+0000
END:DAYLIGHT
END:VTIMEZONE
BEGIN:VEVENT
ORGANIZER;CN=ICANN Policy Calendar:MAILTO:PolicyCalendar@icann.org
ATTENDEE;ROLE=REQ-PARTICIPANT;PARTSTAT=NEEDS-ACTION;RSVP=FALSE;CN=social-me
 dia-wg@atlarge-lists.icann.org:MAILTO:social-media-wg@atlarge-lists.icann.
 org
ATTENDEE;ROLE=REQ-PARTICIPANT;PARTSTAT=NEEDS-ACTION;RSVP=FALSE;CN=Heidi Ull
 rich:MAILTO:Heidi.Ullrich@icann.org
ATTENDEE;ROLE=REQ-PARTICIPANT;PARTSTAT=NEEDS-ACTION;RSVP=FALSE;CN=Gisella G
 ruber:MAILTO:Gisella.Gruber@icann.org
ATTENDEE;ROLE=REQ-PARTICIPANT;PARTSTAT=NEEDS-ACTION;RSVP=FALSE;CN=Evin Erdo
 gdu:MAILTO:evin.erdogdu@icann.org
ATTENDEE;ROLE=REQ-PARTICIPANT;PARTSTAT=NEEDS-ACTION;RSVP=FALSE;CN=Silvia Vi
 vanco:MAILTO:silvia.vivanco@icann.org
ATTENDEE;ROLE=REQ-PARTICIPANT;PARTSTAT=NEEDS-ACTION;RSVP=FALSE;CN=Yesim Naz
 lar:MAILTO:yesim.nazlar@icann.org
ATTENDEE;ROLE=REQ-PARTICIPANT;PARTSTAT=NEEDS-ACTION;RSVP=FALSE;CN=Claudia R
 uiz:MAILTO:claudia.ruiz@icann.org
ATTENDEE;ROLE=REQ-PARTICIPANT;PARTSTAT=NEEDS-ACTION;RSVP=FALSE;CN=Alperen E
 ken:MAILTO:alperen.eken@icann.org
ATTENDEE;ROLE=REQ-PARTICIPANT;PARTSTAT=NEEDS-ACTION;RSVP=FALSE;CN=Christina
  Rodriguez:MAILTO:christina.rodriguez@icann.org
ATTENDEE;ROLE=REQ-PARTICIPANT;PARTSTAT=NEEDS-ACTION;RSVP=FALSE;CN=Michelle 
 DeSmyter:MAILTO:michelle.desmyter@icann.org
DESCRIPTION;LANGUAGE=en-US:***If you require a dial out or need to state an
  apology\, please contact At-Large staff at staff@atlarge.icann.org<mailto
 :staff@atlarge.icann.org> with your preferred number***\n\n\n\n\nDear All\
 ,\n\n\n\nFurther to the Doodle poll below\, the next At-Large Social Media
  Working Group Call is scheduled on Thursday\, 28 May 2020 at 14:30 UTC.\n
 \n\n\nFor other times: https://tinyurl.com/ybovgv3c\n\n\n\nThe agenda (to 
 be updated) and call details can be found at: https://community.icann.org/
 x/lwEdC\n\n\n\nWiki Workspace: https://community.icann.org/x/nIrhAg\n\n\n\
 nZoom Link: ttps://icann.zoom.us/j/92285015763  Meeting ID: 922 8501 5763\
 n\nPassword: 2S@^hY.hPg\n\n\n\n\n\nConference ID:\n\nEN: 1638\n\n\n\nToll-
 free access number (US and Canada): 800 550 6865\n\n\n\nOther toll-free nu
 mbers: https://www.adigo.com/icann\n\n\n\n\n\nIf you require a dial-out pl
 ease contact At-Large staff at staff@atlarge.icann.org<mailto:staff@atlarg
 e.icann.org> with your preferred number.\n\n\n\n\n\nThank you.\n\nKind reg
 ards\,\n\n\n\nAt-Large Staff\n\nICANN Policy Staff in support of the At-La
 rge Community\n\nWebsite: atlarge.icann.org<https://atlarge.icann.org/>\n\
 nFacebook: facebook.com/icann<https://www.facebook.com/icannatlarge>atlarg
 e<https://www.facebook.com/icannatlarge>\n\nTwitter: @<https://twitter.com
 /ICANNAtLarge>ICANNAtLarge<https://twitter.com/ICANNAtLarge>\n\n\n\n\n\n\n
 \nDear All\,\n\n\n\nPlease complete the doodle to schedule the next At-Lar
 ge Social Media Working Group Call for the week of 25 May 2020.\n\n\n\nDoo
 dle:   https://doodle.com/poll/3nhs7pmwvdx9vaf3\n\n\n\nI have enabled the 
 time zone so that it can be changed to your zone.\n\n\n\nThis doodle will 
 close on Tuesday\, 19 May 2020.\n\n\n\n\n\nThank you.\n\nKind Regards\,\n\
 nYeşim Nazlar\n\n\n\n\n
SUMMARY;LANGUAGE=en-US:At-Large Social Media Working Group Call 
DTSTART;TZID=UTC:20200528T143000
DTEND;TZID=UTC:20200528T153000
UID:633E2EF4-423F-4735-B7EA-9E5DA6B10E10
CLASS:PUBLIC
PRIORITY:5
DTSTAMP:20200521T021915Z
TRANSP:OPAQUE
STATUS:CONFIRMED
SEQUENCE:0
LOCATION;LANGUAGE=en-US:14:30 UTC - ADIGO: 1638 - Zoom: ttps://icann.zoom.u
 s/j/92285015763
X-MICROSOFT-CDO-APPT-SEQUENCE:0
X-MICROSOFT-CDO-OWNERAPPTID:2118494009
X-MICROSOFT-CDO-BUSYSTATUS:TENTATIVE
X-MICROSOFT-CDO-INTENDEDSTATUS:BUSY
X-MICROSOFT-CDO-ALLDAYEVENT:FALSE
X-MICROSOFT-CDO-IMPORTANCE:1
X-MICROSOFT-CDO-INSTTYPE:0
X-MICROSOFT-DISALLOW-COUNTER:TRUE
BEGIN:VALARM
DESCRIPTION:REMINDER
TRIGGER;RELATED=START:-PT15M
ACTION:DISPLAY
END:VALARM
END:VEVENT
END:VCALENDAR
