BEGIN:VCALENDAR
METHOD:REQUEST
PRODID:Microsoft Exchange Server 2010
VERSION:2.0
BEGIN:VTIMEZONE
TZID:Pacific Standard Time
BEGIN:STANDARD
DTSTART:16010101T020000
TZOFFSETFROM:-0700
TZOFFSETTO:-0800
RRULE:FREQ=YEARLY;INTERVAL=1;BYDAY=1SU;BYMONTH=11
END:STANDARD
BEGIN:DAYLIGHT
DTSTART:16010101T020000
TZOFFSETFROM:-0800
TZOFFSETTO:-0700
RRULE:FREQ=YEARLY;INTERVAL=1;BYDAY=2SU;BYMONTH=3
END:DAYLIGHT
END:VTIMEZONE
BEGIN:VEVENT
ORGANIZER;CN=ICANN Policy Calendar:MAILTO:PolicyCalendar@icann.org
ATTENDEE;ROLE=REQ-PARTICIPANT;PARTSTAT=NEEDS-ACTION;RSVP=TRUE;CN=social-med
 ia-wg@atlarge-lists.icann.org:MAILTO:social-media-wg@atlarge-lists.icann.o
 rg
ATTENDEE;ROLE=REQ-PARTICIPANT;PARTSTAT=NEEDS-ACTION;RSVP=TRUE;CN=Heidi Ullr
 ich:MAILTO:Heidi.Ullrich@icann.org
ATTENDEE;ROLE=REQ-PARTICIPANT;PARTSTAT=NEEDS-ACTION;RSVP=TRUE;CN=Gisella Gr
 uber:MAILTO:Gisella.Gruber@icann.org
ATTENDEE;ROLE=REQ-PARTICIPANT;PARTSTAT=NEEDS-ACTION;RSVP=TRUE;CN=Evin Erdog
 du:MAILTO:evin.erdogdu@icann.org
ATTENDEE;ROLE=REQ-PARTICIPANT;PARTSTAT=NEEDS-ACTION;RSVP=TRUE;CN=Silvia Viv
 anco:MAILTO:silvia.vivanco@icann.org
ATTENDEE;ROLE=REQ-PARTICIPANT;PARTSTAT=NEEDS-ACTION;RSVP=TRUE;CN=Yesim Nazl
 ar:MAILTO:yesim.nazlar@icann.org
ATTENDEE;ROLE=REQ-PARTICIPANT;PARTSTAT=NEEDS-ACTION;RSVP=TRUE;CN=Claudia Ru
 iz:MAILTO:claudia.ruiz@icann.org
ATTENDEE;ROLE=REQ-PARTICIPANT;PARTSTAT=NEEDS-ACTION;RSVP=TRUE;CN=Alperen Ek
 en:MAILTO:alperen.eken@icann.org
ATTENDEE;ROLE=REQ-PARTICIPANT;PARTSTAT=NEEDS-ACTION;RSVP=TRUE;CN=Michelle D
 eSmyter:MAILTO:michelle.desmyter@icann.org
DESCRIPTION;LANGUAGE=en-US:***If you require a dial out or need to state an
  apology\, please contact At-Large staff at staff@atlarge.icann.org<mailto
 :staff@atlarge.icann.org> with your preferred number***\n\n\n\n\nDear All\
 ,\n\n\n\nFurther to the Doodle poll below\, the next At-Large Social Media
  Working Group Call is scheduled on Thursday\, 18 June 2020 at 14:00 UTC.\
 n\n\n\nFor other times: https://tinyurl.com/y9h7adgo\n\n\n\nThe agenda (to
  be updated) and call details can be found at: https://community.icann.org
 /x/S4BIC\n\n\n\nWiki Workspace: https://community.icann.org/x/nIrhAg\n\n\n
 \nZoom Link: https://icann.zoom.us/j/91756751240?pwd=YVB1UUMzTUxKZ1JPNTd1O
 TFqUUIvZz09  / Meeting ID: 917 5675 1240 (No Password Needed)\n\n\n\nConfe
 rence ID:\n\nEN: 1638\n\n\n\nToll-free access number (US and Canada): 800 
 550 6865\n\n\n\nOther toll-free numbers: https://www.adigo.com/icann\n\n\n
 \n\n\nIf you require a dial-out please contact At-Large staff at staff@atl
 arge.icann.org<mailto:staff@atlarge.icann.org> with your preferred number.
 \n\n\n\n\n\nThank you.\n\nKind regards\,\n\n\n\nAt-Large Staff\n\nICANN Po
 licy Staff in support of the At-Large Community\n\nWebsite: atlarge.icann.
 org<https://atlarge.icann.org/>\n\nFacebook: facebook.com/icann<https://ww
 w.facebook.com/icannatlarge>atlarge<https://www.facebook.com/icannatlarge>
 \n\nTwitter: @<https://twitter.com/ICANNAtLarge>ICANNAtLarge<https://twitt
 er.com/ICANNAtLarge>\n\n\n\n**********************************************
 ************************\n\n\n\n\n\nDear All\,\n\n\n\nPlease complete the 
 Doodle poll to schedule the SMWG Single Purpose Call: ICANN68 Social Media
  & Communications for the week of 15 June 2020.\n\n\n\nDoodle:  https://do
 odle.com/poll/zmq4gcvvnc7xrqdq\n\n\n\nI have enabled the time zone so that
  it can be changed to your zone.\n\n\n\nThis doodle will close on Thursday
 \, 11 June 2020.\n\n\n\n\n\nThank you.\n\nKind Regards\,\n\nYeşim Nazlar\
 n\n\n
SUMMARY;LANGUAGE=en-US:At-Large Social Media Working Group Call 
DTSTART;TZID=Pacific Standard Time:20200618T070000
DTEND;TZID=Pacific Standard Time:20200618T080000
UID:9E1263B6-83D5-47DD-A06A-81E7D4FD01EC
CLASS:PUBLIC
PRIORITY:5
DTSTAMP:20200613T044735Z
TRANSP:OPAQUE
STATUS:CONFIRMED
SEQUENCE:0
LOCATION;LANGUAGE=en-US:14:00 UTC - ADIGO: 1638 - Zoom:  https://icann.zoom
 .us/j/91756751240?pwd=YVB1UUMzTUxKZ1JPNTd1OTFqUUIvZz09
X-MICROSOFT-CDO-APPT-SEQUENCE:0
X-MICROSOFT-CDO-OWNERAPPTID:2118541592
X-MICROSOFT-CDO-BUSYSTATUS:TENTATIVE
X-MICROSOFT-CDO-INTENDEDSTATUS:BUSY
X-MICROSOFT-CDO-ALLDAYEVENT:FALSE
X-MICROSOFT-CDO-IMPORTANCE:1
X-MICROSOFT-CDO-INSTTYPE:0
X-MICROSOFT-DISALLOW-COUNTER:FALSE
BEGIN:VALARM
DESCRIPTION:REMINDER
TRIGGER;RELATED=START:-PT15M
ACTION:DISPLAY
END:VALARM
END:VEVENT
END:VCALENDAR
