BEGIN:VCALENDAR
METHOD:REQUEST
PRODID:Microsoft Exchange Server 2010
VERSION:2.0
BEGIN:VTIMEZONE
TZID:Pacific Standard Time
BEGIN:STANDARD
DTSTART:16010101T020000
TZOFFSETFROM:-0700
TZOFFSETTO:-0800
RRULE:FREQ=YEARLY;INTERVAL=1;BYDAY=1SU;BYMONTH=11
END:STANDARD
BEGIN:DAYLIGHT
DTSTART:16010101T020000
TZOFFSETFROM:-0800
TZOFFSETTO:-0700
RRULE:FREQ=YEARLY;INTERVAL=1;BYDAY=2SU;BYMONTH=3
END:DAYLIGHT
END:VTIMEZONE
BEGIN:VEVENT
ORGANIZER;CN=ICANN Policy Calendar:MAILTO:PolicyCalendar@icann.org
ATTENDEE;ROLE=REQ-PARTICIPANT;PARTSTAT=NEEDS-ACTION;RSVP=TRUE;CN=Heidi Ullr
 ich:MAILTO:Heidi.Ullrich@icann.org
ATTENDEE;ROLE=REQ-PARTICIPANT;PARTSTAT=NEEDS-ACTION;RSVP=TRUE;CN=Silvia Viv
 anco:MAILTO:silvia.vivanco@icann.org
ATTENDEE;ROLE=REQ-PARTICIPANT;PARTSTAT=NEEDS-ACTION;RSVP=TRUE;CN=Gisella Gr
 uber:MAILTO:Gisella.Gruber@icann.org
ATTENDEE;ROLE=REQ-PARTICIPANT;PARTSTAT=NEEDS-ACTION;RSVP=TRUE;CN=Evin Erdog
 du:MAILTO:evin.erdogdu@icann.org
ATTENDEE;ROLE=REQ-PARTICIPANT;PARTSTAT=NEEDS-ACTION;RSVP=TRUE;CN=Yesim Nazl
 ar:MAILTO:yesim.nazlar@icann.org
ATTENDEE;ROLE=REQ-PARTICIPANT;PARTSTAT=NEEDS-ACTION;RSVP=TRUE;CN=Michelle D
 eSmyter:MAILTO:michelle.desmyter@icann.org
ATTENDEE;ROLE=REQ-PARTICIPANT;PARTSTAT=NEEDS-ACTION;RSVP=TRUE;CN=Alperen Ek
 en:MAILTO:alperen.eken@icann.org
ATTENDEE;ROLE=REQ-PARTICIPANT;PARTSTAT=NEEDS-ACTION;RSVP=TRUE;CN=Claudia Ru
 iz:MAILTO:claudia.ruiz@icann.org
ATTENDEE;ROLE=REQ-PARTICIPANT;PARTSTAT=NEEDS-ACTION;RSVP=TRUE;CN=social-med
 ia-wg:MAILTO:social-media-wg@atlarge-lists.icann.org
DESCRIPTION;LANGUAGE=en-US:***Please note this call will be on Zoom Only! I
 f you require a dial out or need to state an apology\, please contact At-L
 arge staff at staff@atlarge.icann.org<mailto:staff@atlarge.icann.org> with
  your preferred number***\n\n&nbsp\;\n\n\nDear All\,\n\n\n\nFurther to the
  Doodle poll below\, the next At-Large Social Media Working Group Call is 
 scheduled on Thursday\, 01 October 2020 at 16:00 UTC.\n\n\n\nFor other tim
 es: https://tinyurl.com/yyay47rm\n\n\n\nThe agenda (to be updated) and cal
 l details can be found at: https://community.icann.org/x/jAnQC\n\n\n\nWiki
  Workspace: https://community.icann.org/x/nIrhAg\n\n\n\nZoom Link: https:/
 /icann.zoom.us/j/93347684222?pwd=dis2U2F6UkFOdzZ3b1o4cHpvT2Fldz09&nbsp\;/ 
 Password:&nbsp\;#SMWGCall1\n\n\n\n\n\nIf you require a dial-out please con
 tact At-Large staff at staff@atlarge.icann.org<mailto:staff@atlarge.icann.
 org> with your preferred number.\n\n\n\n\n\nThank you.\n\nKind regards\,\n
 \n\n\nAt-Large Staff\n\nICANN Policy Staff in support of the At-Large Comm
 unity\n\nWebsite: atlarge.icann.org<https://atlarge.icann.org/>\n\nFaceboo
 k: facebook.com/icann<https://www.facebook.com/icannatlarge>atlarge<https:
 //www.facebook.com/icannatlarge>\n\nTwitter: @<https://twitter.com/ICANNAt
 Large>ICANNAtLarge<https://twitter.com/ICANNAtLarge>\n\n\n\n**************
 ********************************************************\n\n\n\n\n\nDear a
 ll\,\n\n&nbsp\;\n\nPlease complete the&nbsp\;doodle&nbsp\;below to schedul
 e the next&nbsp\;Social Media Working Group Call for&nbsp\;This Week.\n\n&
 nbsp\;&nbsp\;&nbsp\;&nbsp\;&nbsp\;&nbsp\;&nbsp\;&nbsp\;&nbsp\;&nbsp\;&nbsp
 \;\n\nDoodle:&nbsp\;https://www.doodle.com/poll/zswv6su93i39hbub\n\n&nbsp\
 ;\n\nI have enabled the time zone&nbsp\;so&nbsp\;that it can be changed to
  your zone.\n\n&nbsp\;\n\nThis&nbsp\;doodle&nbsp\;will close asap.\n\n&nbs
 p\;\n\n&nbsp\;\n\nThank you.\n\nKind regards\,\n\nClaudia Ruiz&nbsp\;\n\n\
 n
UID:21F44AF4-CC01-4AE7-8701-CD7566AC4357
SUMMARY;LANGUAGE=en-US:At-Large Social Media Working Group Call 
DTSTART;TZID=Pacific Standard Time:20201001T090000
DTEND;TZID=Pacific Standard Time:20201001T100000
CLASS:PUBLIC
PRIORITY:5
DTSTAMP:20200929T212118Z
TRANSP:OPAQUE
STATUS:CONFIRMED
SEQUENCE:0
LOCATION;LANGUAGE=en-US:1600 UTC Zoom:  https://icann.zoom.us/j/93347684222
 ?pwd=dis2U2F6UkFOdzZ3b1o4cHpvT2Fldz09 
X-MICROSOFT-CDO-APPT-SEQUENCE:0
X-MICROSOFT-CDO-OWNERAPPTID:2118774429
X-MICROSOFT-CDO-BUSYSTATUS:TENTATIVE
X-MICROSOFT-CDO-INTENDEDSTATUS:BUSY
X-MICROSOFT-CDO-ALLDAYEVENT:FALSE
X-MICROSOFT-CDO-IMPORTANCE:1
X-MICROSOFT-CDO-INSTTYPE:0
X-MICROSOFT-DONOTFORWARDMEETING:FALSE
X-MICROSOFT-DISALLOW-COUNTER:FALSE
BEGIN:VALARM
DESCRIPTION:REMINDER
TRIGGER;RELATED=START:-PT15M
ACTION:DISPLAY
END:VALARM
END:VEVENT
END:VCALENDAR
