BEGIN:VCALENDAR
VERSION:2.0
PRODID:-//Microsoft Corporation//Outlook for Mac MIMEDIR//EN
METHOD:PUBLISH
BEGIN:VTIMEZONE
TZID:Coordinated Universal Time
X-ENTOURAGE-CFTIMEZONE:UTC
X-ENTOURAGE-TZID:93
BEGIN:STANDARD
TZOFFSETFROM:+0000
TZOFFSETTO:+0000
DTSTART:16010101T000000
END:STANDARD
END:VTIMEZONE
BEGIN:VEVENT
UID:A95934C6-2373-4A2E-982A-75D1A8E22BEC
X-ENTOURAGE_UUID:A95934C6-2373-4A2E-982A-75D1A8E22BEC
X-MICROSOFT-EXCHANGE-ID:AAMkADFlMDNlNjQ5LTNjNTUtNDJkMC04ZTI0LWFiMTFkOTgwND
 JhMQBGAAAAAAAdZPIZTDF9SJl4Q9bAl0gQBwAFskP3JLIoSYZSK2rNBQTXAIjV8WqdAACjhqXC
 SbKVRZwH7aZE5XhKAABsCmcTAAA=
X-MICROSOFT-EXCHANGE-CHANGEKEY:DwAAABYAAACjhqXCSbKVRZwH7aZE5XhKAABsDy0b
DTSTAMP:20201215T091521Z
DTSTART;TZID="Coordinated Universal Time":20201217T130000
DTEND;TZID="Coordinated Universal Time":20201217T140000
LAST-MODIFIED:20201215T091521Z
SUMMARY:At-Large Social Media Working Group Call
DESCRIPTION:*** If you require a dial out or need to state an apology\,
  please contact At-Large staff at staff@atlarge.icann.org with your
  preferred number ***\n\n \n\n \n\nDear All\,\n\n \n\nFurther to the
  Doodle poll below\, the next At-Large Social Media Working Group Call is
  scheduled on Thursday\, 17 December 2020 at 13:00 UTC.\n\n \n\nFor other
  times:  https://tinyurl.com/y93sdz4d \n\n \n\nThe agenda (to be updated)
  and call details can be found at: https://community.icann.org/x/0YYmCQ
  \n\n \n\nWiki Workspace:
  https://community.icann.org/x/nIrhAg\n\n\n\nADIGO Conference
  Bridge:\n\nEnglish Conference ID = 1638\n\nSpanish Conference ID =
  1738\n\n\n\nToll-free access number (US and Canada): 800 550 6865\n\n
  \n\nOther toll-free numbers: http://adigo.com/icann/  \n\n \n\nZoom
  Link:
  https://icann.zoom.us/j/94887657220?pwd=YXF6MTNXeU1Felp5QkUwMFFnakl4Zz09
    / Password: #SMWGCall1\n\n \n\n \n\nIf you require a dial-out please
  contact At-Large staff at staff@atlarge.icann.org with your preferred
  number.\n\n \n\n \n\nThank you.\n\nKind regards\,\n\n \n\nAt-Large Staff
  \n\nICANN Policy Staff in support of the At-Large Community\n\nWebsite:
  atlarge.icann.org\n\nFacebook: facebook.com/icannatlarge\n\nTwitter:
  @ICANNAtLarge\n
LOCATION:13:000 UTC - ADIGO EN:1638 ES:1738 -
  https://icann.zoom.us/j/94887657220?pwd=YXF6MTNXeU1Felp5QkUwMFFnakl4Zz09
    
ORGANIZER:MAILTO:PolicyCalendar@icann.org
SEQUENCE:0
ATTENDEE;ROLE=REQ-PARTICIPANT;RSVP=FALSE;CN="Heidi
  Ullrich";PARTSTAT=NEEDS-ACTION:MAILTO:Heidi.Ullrich@icann.org
ATTENDEE;ROLE=REQ-PARTICIPANT;RSVP=FALSE;CN="Silvia
  Vivanco";PARTSTAT=NEEDS-ACTION:MAILTO:silvia.vivanco@icann.org
ATTENDEE;ROLE=REQ-PARTICIPANT;RSVP=FALSE;CN="Gisella
  Gruber";PARTSTAT=NEEDS-ACTION:MAILTO:Gisella.Gruber@icann.org
ATTENDEE;ROLE=REQ-PARTICIPANT;RSVP=FALSE;CN="Evin
  Erdogdu";PARTSTAT=NEEDS-ACTION:MAILTO:evin.erdogdu@icann.org
ATTENDEE;ROLE=REQ-PARTICIPANT;RSVP=FALSE;CN="Claudia
  Ruiz";PARTSTAT=NEEDS-ACTION:MAILTO:claudia.ruiz@icann.org
ATTENDEE;ROLE=REQ-PARTICIPANT;RSVP=FALSE;CN="Michelle
  DeSmyter";PARTSTAT=NEEDS-ACTION:MAILTO:michelle.desmyter@icann.org
ATTENDEE;ROLE=REQ-PARTICIPANT;RSVP=FALSE;CN="Alperen
  Eken";PARTSTAT=NEEDS-ACTION:MAILTO:alperen.eken@icann.org
ATTENDEE;ROLE=REQ-PARTICIPANT;RSVP=FALSE;CN="Yesim
  Nazlar";PARTSTAT=ACCEPTED:MAILTO:yesim.nazlar@icann.org
ATTENDEE;ROLE=REQ-PARTICIPANT;RSVP=FALSE;CN="Sabrina
  Mosquera";PARTSTAT=NEEDS-ACTION:MAILTO:sabrina.mosquera@icann.org
ATTENDEE;ROLE=REQ-PARTICIPANT;RSVP=FALSE;CN="TEL
  ES-Teleconf-Interpretation";PARTSTAT=NEEDS-ACTION:MAILTO:ES-Teleconf-Inte
 rpretation@icann.org
ATTENDEE;ROLE=REQ-PARTICIPANT;RSVP=FALSE;CN=social-media-wg;PARTSTAT=NEEDS
 -ACTION:MAILTO:social-media-wg@atlarge-lists.icann.org
ATTENDEE;ROLE=REQ-PARTICIPANT;RSVP=FALSE;CN="Glenn
  McKnight";PARTSTAT=NEEDS-ACTION:MAILTO:mcknight.glenn@gmail.com
ATTENDEE;ROLE=REQ-PARTICIPANT;RSVP=FALSE;CN="Dev Anand
  Teelucksingh";PARTSTAT=NEEDS-ACTION:MAILTO:devtee@gmail.com
X-MICROSOFT-CDO-BUSYSTATUS:BUSY
X-MICROSOFT-CDO-ALLDAYEVENT:FALSE
X-MICROSOFT-DISALLOW-COUNTER:FALSE
X-MICROSOFT-DONOTFORWARDMEETING:FALSE
X-MICROSOFT-CDO-INSTTYPE:0
BEGIN:VALARM
ACTION:DISPLAY
DESCRIPTION:REMINDER
TRIGGER;RELATED=START:-PT00H15M00S
END:VALARM
END:VEVENT
END:VCALENDAR
