BEGIN:VCALENDAR
METHOD:REQUEST
PRODID:Microsoft Exchange Server 2010
VERSION:2.0
BEGIN:VTIMEZONE
TZID:UTC
BEGIN:STANDARD
DTSTART:16010101T000000
TZOFFSETFROM:+0000
TZOFFSETTO:+0000
END:STANDARD
BEGIN:DAYLIGHT
DTSTART:16010101T000000
TZOFFSETFROM:+0000
TZOFFSETTO:+0000
END:DAYLIGHT
END:VTIMEZONE
BEGIN:VEVENT
ORGANIZER;CN=ICANN Policy Calendar:MAILTO:PolicyCalendar@icann.org
ATTENDEE;ROLE=REQ-PARTICIPANT;PARTSTAT=NEEDS-ACTION;RSVP=TRUE;CN=Heidi Ullr
 ich:MAILTO:Heidi.Ullrich@icann.org
ATTENDEE;ROLE=REQ-PARTICIPANT;PARTSTAT=NEEDS-ACTION;RSVP=TRUE;CN=Silvia Viv
 anco:MAILTO:silvia.vivanco@icann.org
ATTENDEE;ROLE=REQ-PARTICIPANT;PARTSTAT=NEEDS-ACTION;RSVP=TRUE;CN=Gisella Gr
 uber:MAILTO:Gisella.Gruber@icann.org
ATTENDEE;ROLE=REQ-PARTICIPANT;PARTSTAT=NEEDS-ACTION;RSVP=TRUE;CN=Evin Erdog
 du:MAILTO:evin.erdogdu@icann.org
ATTENDEE;ROLE=REQ-PARTICIPANT;PARTSTAT=NEEDS-ACTION;RSVP=TRUE;CN=Claudia Ru
 iz:MAILTO:claudia.ruiz@icann.org
ATTENDEE;ROLE=REQ-PARTICIPANT;PARTSTAT=NEEDS-ACTION;RSVP=TRUE;CN=Michelle D
 eSmyter:MAILTO:michelle.desmyter@icann.org
ATTENDEE;ROLE=REQ-PARTICIPANT;PARTSTAT=NEEDS-ACTION;RSVP=TRUE;CN=Yesim Nazl
 ar:MAILTO:yesim.nazlar@icann.org
ATTENDEE;ROLE=REQ-PARTICIPANT;PARTSTAT=NEEDS-ACTION;RSVP=TRUE;CN=Sabrina Mo
 squera:MAILTO:sabrina.mosquera@icann.org
ATTENDEE;ROLE=REQ-PARTICIPANT;PARTSTAT=NEEDS-ACTION;RSVP=TRUE;CN=TEL ES-Tel
 econf-Interpretation:MAILTO:ES-Teleconf-Interpretation@icann.org
ATTENDEE;ROLE=REQ-PARTICIPANT;PARTSTAT=NEEDS-ACTION;RSVP=TRUE;CN=social-med
 ia-wg:MAILTO:social-media-wg@atlarge-lists.icann.org
DESCRIPTION;LANGUAGE=en-US:*** If you require a dial out or need to state a
 n apology\, please contact&nbsp\;At-Large&nbsp\;staff at&nbsp\;staff@atlar
 ge.icann.org<mailto:staff@atlarge.icann.org>&nbsp\;with your preferred num
 ber ***\n\n&nbsp\;\n\n&nbsp\;\n\nDear All\,\n\n&nbsp\;\n\nFurther to the D
 oodle poll below\, the next&nbsp\;At-Large&nbsp\;Social&nbsp\;Media&nbsp\;
 Working&nbsp\;Group&nbsp\;Call&nbsp\;is scheduled on&nbsp\;Thursday\, 25 F
 ebruary 2021 at 15:30 UTC.\n\n&nbsp\;\n\nFor other times:&nbsp\; https://t
 inyurl.com/n38eqzrv\n\n&nbsp\;\n\nThe agenda (to be updated) and&nbsp\;cal
 l&nbsp\;details can be found at:&nbsp\; https://community.icann.org/x/Kwdt
 CQ\n\n&nbsp\;\n\nWiki Workspace:&nbsp\;https://community.icann.org/x/nIrhA
 g\n\n&nbsp\;\n\nADIGO Conference Bridge:\n\nEnglish Conference ID = 1638\n
 \nSpanish Conference ID = 1738\n\n&nbsp\;\n\nToll-free access number (US a
 nd Canada): 800 550 6865\n\n&nbsp\;\n\nOther toll-free numbers:&nbsp\;http
 ://adigo.com/icann/&nbsp\;&nbsp\;\n\n&nbsp\;\n\nZoom Link:&nbsp\;https://i
 cann.zoom.us/j/98381523055?pwd=QkQ2dkhUZEZld0xPRTM3Z0xUWnViQT09 &nbsp\;/ P
 assword:&nbsp\;#SMWGCall2\n\n&nbsp\;\n\n&nbsp\;\n\nIf you require a dial-o
 ut please contact&nbsp\;At-Large&nbsp\;staff at&nbsp\;staff@atlarge.icann.
 org<mailto:staff@atlarge.icann.org>&nbsp\;with your preferred number.\n\n&
 nbsp\;\n\n&nbsp\;\n\nThank you.\n\nKind regards\,\n\n&nbsp\;\n\nAt-Large&n
 bsp\;Staff&nbsp\;\n\nICANN Policy Staff in support of the&nbsp\;At-Large&n
 bsp\;Community\n\nWebsite:&nbsp\;atlarge.icann.org<https://atlarge.icann.o
 rg/>\n\nFacebook:&nbsp\;facebook.com/icann<https://www.facebook.com/icanna
 tlarge>atlarge<https://www.facebook.com/icannatlarge>\n\nTwitter:&nbsp\;@<
 https://twitter.com/ICANNAtLarge>ICANNAtLarge<https://twitter.com/ICANNAtL
 arge>\n\n\n
UID:972E9613-A186-4610-B257-FFFC4A7AF282
SUMMARY;LANGUAGE=en-US:At-Large Social Media Working Group Call 
DTSTART;TZID=UTC:20210225T153000
DTEND;TZID=UTC:20210225T163000
CLASS:PUBLIC
PRIORITY:5
DTSTAMP:20210222T123321Z
TRANSP:OPAQUE
STATUS:CONFIRMED
SEQUENCE:0
LOCATION;LANGUAGE=en-US:15:30 UTC - ADIGO EN:1638 ES:1738 - https://icann.z
 oom.us/j/98381523055?pwd=QkQ2dkhUZEZld0xPRTM3Z0xUWnViQT09  
X-MICROSOFT-CDO-APPT-SEQUENCE:0
X-MICROSOFT-CDO-OWNERAPPTID:2119348401
X-MICROSOFT-CDO-BUSYSTATUS:TENTATIVE
X-MICROSOFT-CDO-INTENDEDSTATUS:BUSY
X-MICROSOFT-CDO-ALLDAYEVENT:FALSE
X-MICROSOFT-CDO-IMPORTANCE:1
X-MICROSOFT-CDO-INSTTYPE:0
X-MICROSOFT-DONOTFORWARDMEETING:FALSE
X-MICROSOFT-DISALLOW-COUNTER:FALSE
BEGIN:VALARM
DESCRIPTION:REMINDER
TRIGGER;RELATED=START:-PT15M
ACTION:DISPLAY
END:VALARM
END:VEVENT
END:VCALENDAR
