BEGIN:VCALENDAR
METHOD:REQUEST
PRODID:Microsoft Exchange Server 2010
VERSION:2.0
BEGIN:VTIMEZONE
TZID:UTC
BEGIN:STANDARD
DTSTART:16010101T000000
TZOFFSETFROM:+0000
TZOFFSETTO:+0000
END:STANDARD
BEGIN:DAYLIGHT
DTSTART:16010101T000000
TZOFFSETFROM:+0000
TZOFFSETTO:+0000
END:DAYLIGHT
END:VTIMEZONE
BEGIN:VEVENT
ORGANIZER;CN=ICANN Policy Calendar:MAILTO:PolicyCalendar@icann.org
ATTENDEE;ROLE=REQ-PARTICIPANT;PARTSTAT=NEEDS-ACTION;RSVP=TRUE;CN=Heidi Ullr
 ich:MAILTO:Heidi.Ullrich@icann.org
ATTENDEE;ROLE=REQ-PARTICIPANT;PARTSTAT=NEEDS-ACTION;RSVP=TRUE;CN=Silvia Viv
 anco:MAILTO:silvia.vivanco@icann.org
ATTENDEE;ROLE=REQ-PARTICIPANT;PARTSTAT=NEEDS-ACTION;RSVP=TRUE;CN=Gisella Gr
 uber:MAILTO:Gisella.Gruber@icann.org
ATTENDEE;ROLE=REQ-PARTICIPANT;PARTSTAT=NEEDS-ACTION;RSVP=TRUE;CN=Evin Erdog
 du:MAILTO:evin.erdogdu@icann.org
ATTENDEE;ROLE=REQ-PARTICIPANT;PARTSTAT=NEEDS-ACTION;RSVP=TRUE;CN=Claudia Ru
 iz:MAILTO:claudia.ruiz@icann.org
ATTENDEE;ROLE=REQ-PARTICIPANT;PARTSTAT=NEEDS-ACTION;RSVP=TRUE;CN=Michelle D
 eSmyter:MAILTO:michelle.desmyter@icann.org
ATTENDEE;ROLE=REQ-PARTICIPANT;PARTSTAT=NEEDS-ACTION;RSVP=TRUE;CN=Yesim Nazl
 ar:MAILTO:yesim.nazlar@icann.org
ATTENDEE;ROLE=REQ-PARTICIPANT;PARTSTAT=NEEDS-ACTION;RSVP=TRUE;CN=Sabrina Mo
 squera:MAILTO:sabrina.mosquera@icann.org
ATTENDEE;ROLE=REQ-PARTICIPANT;PARTSTAT=NEEDS-ACTION;RSVP=TRUE;CN=TEL ES-Tel
 econf-Interpretation:MAILTO:ES-Teleconf-Interpretation@icann.org
ATTENDEE;ROLE=REQ-PARTICIPANT;PARTSTAT=NEEDS-ACTION;RSVP=TRUE;CN=social-med
 ia-wg:MAILTO:social-media-wg@atlarge-lists.icann.org
ATTENDEE;ROLE=REQ-PARTICIPANT;PARTSTAT=NEEDS-ACTION;RSVP=TRUE;CN=Natalia Fi
 lina:MAILTO:filinafilka@gmail.com
ATTENDEE;ROLE=REQ-PARTICIPANT;PARTSTAT=NEEDS-ACTION;RSVP=TRUE;CN=Bukola  Or
 onti:MAILTO:bukkiepharworley@gmail.com
ATTENDEE;ROLE=REQ-PARTICIPANT;PARTSTAT=NEEDS-ACTION;RSVP=TRUE;CN=Shreedeep 
 Rayamajhi:MAILTO:weaker41@gmail.com
ATTENDEE;ROLE=REQ-PARTICIPANT;PARTSTAT=NEEDS-ACTION;RSVP=TRUE;CN=Lilian Ive
 tte  De Luque :MAILTO:lilidebru@hotmail.com
ATTENDEE;ROLE=REQ-PARTICIPANT;PARTSTAT=NEEDS-ACTION;RSVP=TRUE;CN=Jonathan Z
 uck:MAILTO:JZuck@innovatorsnetwork.org
ATTENDEE;ROLE=REQ-PARTICIPANT;PARTSTAT=NEEDS-ACTION;RSVP=TRUE;CN=Dev Anand 
 Teelucksingh:MAILTO:devtee@gmail.com
ATTENDEE;ROLE=REQ-PARTICIPANT;PARTSTAT=NEEDS-ACTION;RSVP=TRUE;CN=Peter Knig
 ht:MAILTO:ptknight@gmail.com
DESCRIPTION;LANGUAGE=en-US:*** If you require a dial out or need to state a
 n apology\, please contact At-Large staff at staff@atlarge.icann.org<mailt
 o:staff@atlarge.icann.org> with your preferred number ***\n\n\n\n\n\nDear 
 All\,\n\n\n\nFurther to the Doodle poll below\, the next At-Large Social M
 edia Working Group Call is scheduled on Tuesday\, 11 May 2021 at 14:00 UTC
 .\n\n\n\nFor other times: https://tinyurl.com/de987kbd\n\n\n\nThe agenda (
 to be updated) and call details can be found at: https://community.icann.o
 rg/x/hgLQCQ\n\n\n\nWiki Workspace: https://community.icann.org/x/nIrhAg\n\
 n\n\nADIGO Conference Bridge:\n\nEnglish Conference ID = 1638\n\nSpanish C
 onference ID = 1738\n\n\n\nToll-free access number (US and Canada): 800 55
 0 6865\n\n\n\nOther toll-free numbers: http://adigo.com/icann/\n\n\n\nZoom
  Link:  https://icann.zoom.us/j/97312605232?pwd=M2F5TWpQV0JHYnNCdlpPMEM0MH
 BDdz09 / Password: SMWGCall#1\n\n\n\n\n\nIf you require a dial-out please 
 contact At-Large staff at staff@atlarge.icann.org<mailto:staff@atlarge.ica
 nn.org> with your preferred number.\n\n\n\n\n\nThank you.\n\nKind regards\
 ,\n\n\n\nAt-Large Staff\n\nICANN Policy Staff in support of the At-Large C
 ommunity\n\nWebsite: atlarge.icann.org<https://atlarge.icann.org/>\n\nFace
 book: facebook.com/icann<https://www.facebook.com/icannatlarge>atlarge<htt
 ps://www.facebook.com/icannatlarge>\n\nTwitter: @<https://twitter.com/ICAN
 NAtLarge>ICANNAtLarge<https://twitter.com/ICANNAtLarge>\n\n\n\n\n
UID:A6BC6020-9AD7-4662-AA58-AF443AF64DAC
SUMMARY;LANGUAGE=en-US:At-Large Social Media Working Group Call 
DTSTART;TZID=UTC:20210511T140000
DTEND;TZID=UTC:20210511T150000
CLASS:PUBLIC
PRIORITY:5
DTSTAMP:20210507T062359Z
TRANSP:OPAQUE
STATUS:CONFIRMED
SEQUENCE:0
LOCATION;LANGUAGE=en-US:14:00 UTC - ADIGO EN:1638 ES:1738 - Zoom: https://i
 cann.zoom.us/j/97312605232?pwd=M2F5TWpQV0JHYnNCdlpPMEM0MHBDdz09
X-MICROSOFT-CDO-APPT-SEQUENCE:0
X-MICROSOFT-CDO-OWNERAPPTID:2119513123
X-MICROSOFT-CDO-BUSYSTATUS:TENTATIVE
X-MICROSOFT-CDO-INTENDEDSTATUS:BUSY
X-MICROSOFT-CDO-ALLDAYEVENT:FALSE
X-MICROSOFT-CDO-IMPORTANCE:1
X-MICROSOFT-CDO-INSTTYPE:0
X-MICROSOFT-DONOTFORWARDMEETING:FALSE
X-MICROSOFT-DISALLOW-COUNTER:FALSE
BEGIN:VALARM
DESCRIPTION:REMINDER
TRIGGER;RELATED=START:-PT15M
ACTION:DISPLAY
END:VALARM
END:VEVENT
END:VCALENDAR
