BEGIN:VCALENDAR
METHOD:REQUEST
PRODID:Microsoft Exchange Server 2010
VERSION:2.0
BEGIN:VTIMEZONE
TZID:Singapore Standard Time
BEGIN:STANDARD
DTSTART:16010101T000000
TZOFFSETFROM:+0800
TZOFFSETTO:+0800
END:STANDARD
BEGIN:DAYLIGHT
DTSTART:16010101T000000
TZOFFSETFROM:+0800
TZOFFSETTO:+0800
END:DAYLIGHT
END:VTIMEZONE
BEGIN:VEVENT
ORGANIZER;CN=Jia-Juh Kimoto:MAILTO:jiajuh.kimoto@icann.org
ATTENDEE;ROLE=REQ-PARTICIPANT;PARTSTAT=NEEDS-ACTION;RSVP=TRUE;CN=LGR@icann.
 org:MAILTO:LGR@icann.org
ATTENDEE;ROLE=REQ-PARTICIPANT;PARTSTAT=NEEDS-ACTION;RSVP=TRUE;CN=VIP@icann.
 org:MAILTO:VIP@icann.org
DESCRIPTION;LANGUAGE=en-US:Meeting: IDN Root Zone LGR (Workshop)\nDate: Wed
 nesday\, 11 February 2015\nTime: 13:00 – 14:15 (Local Singapore Time)\nL
 ocation: Moor Conf. Room | 4th Level Raffles City Convention Center\nRemot
 e Participation: http://singapore52.icann.org/en/schedule/wed-lgr\n\nOverv
 iew: This session will focus on explaining the steps involved in the LGR p
 rocedure implementation and providing more detailed guidance by the IDN te
 am and the Integration Panel to address the issues which have been raised 
 by the Generation Panel members for different scripts. Additionally\, scri
 pt communities will provide updates on their progress.\nAgenda:\n1.      I
 ntroduction – Sarmad Hussain\n2.      Integration Panel Discussion\na.  
     Guidelines for LGR Development – Wil Tan\nb.      How to Design Vari
 ants and WLE Rules – Michel Suignard\n3.      Community Updates\na.     
  Armenian GP Update – Igor Mkrtumyan\nb.      Cyrillic GP Update – Dus
 an Stojičević and Yuriy Kargapolov\nc.      Beyond the Root Zone - Appli
 cations of LGR – Philippe Collin\n4.      Q/A\n\n\n
SUMMARY;LANGUAGE=en-US:IDN Root Zone LGR (Workshop) | Wednesday\, 11 Februa
 ry 2015 | 13:00 – 14:15 (Local Singapore Time)
DTSTART;TZID=Singapore Standard Time:20150211T130000
DTEND;TZID=Singapore Standard Time:20150211T141500
UID:040000008200E00074C5B7101A82E008000000007059FE8F323FD001000000000000000
 010000000FC3C0F975CAE844D808B1513AF523259
CLASS:PUBLIC
PRIORITY:5
DTSTAMP:20150203T060102Z
TRANSP:OPAQUE
STATUS:CONFIRMED
SEQUENCE:0
LOCATION;LANGUAGE=en-US:Moor Conf. Room | 4th Level Raffles City Convention
  Center
X-MICROSOFT-CDO-APPT-SEQUENCE:0
X-MICROSOFT-CDO-OWNERAPPTID:-1390270497
X-MICROSOFT-CDO-BUSYSTATUS:TENTATIVE
X-MICROSOFT-CDO-INTENDEDSTATUS:BUSY
X-MICROSOFT-CDO-ALLDAYEVENT:FALSE
X-MICROSOFT-CDO-IMPORTANCE:1
X-MICROSOFT-CDO-INSTTYPE:0
X-MICROSOFT-DISALLOW-COUNTER:FALSE
BEGIN:VALARM
ACTION:DISPLAY
DESCRIPTION:REMINDER
TRIGGER;RELATED=START:-PT15M
END:VALARM
END:VEVENT
END:VCALENDAR
