BEGIN:VCALENDAR
METHOD:REQUEST
PRODID:Microsoft Exchange Server 2010
VERSION:2.0
BEGIN:VTIMEZONE
TZID:Singapore Standard Time
BEGIN:STANDARD
DTSTART:16010101T000000
TZOFFSETFROM:+0800
TZOFFSETTO:+0800
END:STANDARD
BEGIN:DAYLIGHT
DTSTART:16010101T000000
TZOFFSETFROM:+0800
TZOFFSETTO:+0800
END:DAYLIGHT
END:VTIMEZONE
BEGIN:VEVENT
ORGANIZER;CN=Jia-Juh Kimoto:MAILTO:jiajuh.kimoto@icann.org
ATTENDEE;ROLE=REQ-PARTICIPANT;PARTSTAT=NEEDS-ACTION;RSVP=TRUE;CN='VIP@icann
 .org':MAILTO:VIP@icann.org
DESCRIPTION;LANGUAGE=en-US:Meeting: IDN Program Update\nDate: Wednesday\, 1
 1 February 2015\nTime: 9:00 – 10:15 (Local Singapore Time)\nLocation: So
 phia Conf. Room | 4th Level Raffles City Convention Center\nRemote Partici
 pation: http://singapore52.icann.org/en/schedule/wed-idn\nOverview:  ICANN
 ’s IDN Program team will discuss the overall progress of the program\, g
 iving details of the different projects the IDN program is undertaking. Th
 is includes the community-based efforts to develop rules to validate and d
 etermine variants of top-level domains in different scripts. They will sha
 re the stage with community members who are making the decisions about cha
 racters in a particular script to develop these “Label Generation Rules
 ” for the Internet’s Root Zone. These community representatives will s
 hare the challenges associated with the work and report on the progress.\n
  Agenda:\n1.      IDN Program – Overview and Progress – Sarmad Hussain
 \n2.      Update by Integration Panel – Wil Tan\n3.      Community Updat
 es on Generation Panels\na.      Arabic GP Update – Nabil Benamar\nb.   
    Japanese GP Update – Hiro Hotta and Yoshiro Yoneya\nc.      Korean GP
  Update – Kyongsok Kim\nd.      Chinese GP Update – Kenny Huang\n4.   
    Q/A\n\n\n
SUMMARY;LANGUAGE=en-US:IDN Program Update | Wednesday\, 11 February 2015 | 
 9:00 – 10:15 (Local Singapore Time)
DTSTART;TZID=Singapore Standard Time:20150211T090000
DTEND;TZID=Singapore Standard Time:20150211T101500
UID:040000008200E00074C5B7101A82E00800000000A0519483303FD001000000000000000
 010000000FAA9E857510A77439A6AF5C1AF9CFA97
CLASS:PUBLIC
PRIORITY:5
DTSTAMP:20150203T054926Z
TRANSP:OPAQUE
STATUS:CONFIRMED
SEQUENCE:1
LOCATION;LANGUAGE=en-US:Sophia Conf. Room | 4th Level Raffles City Conventi
 on Center
X-MICROSOFT-CDO-APPT-SEQUENCE:1
X-MICROSOFT-CDO-OWNERAPPTID:-1419630625
X-MICROSOFT-CDO-BUSYSTATUS:TENTATIVE
X-MICROSOFT-CDO-INTENDEDSTATUS:BUSY
X-MICROSOFT-CDO-ALLDAYEVENT:FALSE
X-MICROSOFT-CDO-IMPORTANCE:1
X-MICROSOFT-CDO-INSTTYPE:0
X-MICROSOFT-DISALLOW-COUNTER:FALSE
BEGIN:VALARM
ACTION:DISPLAY
DESCRIPTION:REMINDER
TRIGGER;RELATED=START:-PT15M
END:VALARM
END:VEVENT
END:VCALENDAR
