BEGIN:VCALENDAR
VERSION:2.0
PRODID:-//Microsoft Corporation//Outlook for Mac MIMEDIR//EN
METHOD:PUBLISH
BEGIN:VTIMEZONE
TZID:Coordinated Universal Time
X-ENTOURAGE-CFTIMEZONE:UTC
X-ENTOURAGE-TZID:93
BEGIN:STANDARD
TZOFFSETFROM:+0000
TZOFFSETTO:+0000
DTSTART:16010101T000000
END:STANDARD
END:VTIMEZONE
BEGIN:VEVENT
UID:579073AF-48FC-4535-A928-E6D73F4ED9DF
X-ENTOURAGE_UUID:579073AF-48FC-4535-A928-E6D73F4ED9DF
X-MICROSOFT-EXCHANGE-ID:AAMkADFlMDNlNjQ5LTNjNTUtNDJkMC04ZTI0LWFiMTFkOTgwND
 JhMQBGAAAAAAAdZPIZTDF9SJl4Q9bAl0gQBwAFskP3JLIoSYZSK2rNBQTXAIjV8WqdAACjhqXC
 SbKVRZwH7aZE5XhKAAEfinPsAAA=
X-MICROSOFT-EXCHANGE-CHANGEKEY:DwAAABYAAACjhqXCSbKVRZwH7aZE5XhKAAEflG3Z
DTSTAMP:20210913T215840Z
DTSTART;TZID="Coordinated Universal Time":20210916T160000
DTEND;TZID="Coordinated Universal Time":20210916T170000
LAST-MODIFIED:20210913T215841Z
SUMMARY:ALAC Subcommittee on Outreach and Engagement Call 
DESCRIPTION:**If you require a dial-out or need to state an apology\,
  please contact At-Large staff at staff@atlarge.icann.org with your
  preferred number.**\n\n \n\n \n\nDear All\,\n\n \n\nFurther to the
  doodle poll\, The next ALAC Subcommittee on Outreach and Engagement Call
  is scheduled on Thursday\, 16 September 2021 at 16:00 UTC for 60
  mins.\n\n \n\nFor other times: https://tinyurl.com/nss8d8et \n\n \n\nThe
  agenda (to be updated) and call details can be found at:
  https://community.icann.org/x/_QVyCg \n\n \n\nWiki Workspace:
  https://community.icann.org/x/cqfbAQ\n\n \nZoom Link:
  https://icann.zoom.us/j/95032273521?pwd=eGJ4RkJydFZJaWp2VzNxOW1nSHJNUT09
   / Password: ALACSCO&E1\n \n\n \n\n \n\nADIGO Conference Bridge: \n\nEN
  1638 \n\nES 1738\n\n \n\nToll-free access number (US and Canada): 800
  550 6865\n\n \n\nOther toll free numbers: http://adigo.com/icann/ \n\n
  \n\nIf you require a dial-out please contact At-Large staff at
  staff@atlarge.icann.org with your preferred number.\n\n \n\n \n\n
  \n\nThank you.\n\nKind Regards\,\n\n \n\nAt-Large Staff\n\nICANN Policy
  Staff in support of the At-Large Community\n\nWebsite:
  atlarge.icann.org\n\nFacebook: facebook.com/icannatlarge\n\nTwitter:
  @ICANNAtLarge\n\n \n\n \n
LOCATION:16:00 UTC | ADIGO EN:1638 ES:1738 | Zoom:
   https://icann.zoom.us/j/95032273521?pwd=eGJ4RkJydFZJaWp2VzNxOW1nSHJNUT09
ORGANIZER:MAILTO:PolicyCalendar@icann.org
SEQUENCE:0
ATTENDEE;ROLE=REQ-PARTICIPANT;RSVP=FALSE;CN="Heidi
  Ullrich";PARTSTAT=NEEDS-ACTION:MAILTO:Heidi.Ullrich@icann.org
ATTENDEE;ROLE=REQ-PARTICIPANT;RSVP=FALSE;CN="Silvia
  Vivanco";PARTSTAT=NEEDS-ACTION:MAILTO:silvia.vivanco@icann.org
ATTENDEE;ROLE=REQ-PARTICIPANT;RSVP=FALSE;CN="Gisella
  Gruber";PARTSTAT=NEEDS-ACTION:MAILTO:Gisella.Gruber@icann.org
ATTENDEE;ROLE=REQ-PARTICIPANT;RSVP=FALSE;CN="Evin
  Erdogdu";PARTSTAT=NEEDS-ACTION:MAILTO:evin.erdogdu@icann.org
ATTENDEE;ROLE=REQ-PARTICIPANT;RSVP=FALSE;CN="Claudia
  Ruiz";PARTSTAT=NEEDS-ACTION:MAILTO:claudia.ruiz@icann.org
ATTENDEE;ROLE=REQ-PARTICIPANT;RSVP=FALSE;CN="Michelle
  DeSmyter";PARTSTAT=NEEDS-ACTION:MAILTO:michelle.desmyter@icann.org
ATTENDEE;ROLE=REQ-PARTICIPANT;RSVP=FALSE;CN="Devan
  Reed";PARTSTAT=NEEDS-ACTION:MAILTO:devan.reed@icann.org
ATTENDEE;ROLE=REQ-PARTICIPANT;RSVP=FALSE;CN=Alac-sc-outreach;PARTSTAT=NEED
 S-ACTION:MAILTO:alac-sc-outreach@atlarge-lists.icann.org
ATTENDEE;ROLE=REQ-PARTICIPANT;RSVP=FALSE;CN="Adam
  Peake";PARTSTAT=NEEDS-ACTION:MAILTO:adam.peake@icann.org
ATTENDEE;ROLE=REQ-PARTICIPANT;RSVP=FALSE;CN="TEL
  ES-Teleconf-Interpretation";PARTSTAT=NEEDS-ACTION:MAILTO:ES-Teleconf-Inte
 rpretation@icann.org
ATTENDEE;ROLE=REQ-PARTICIPANT;RSVP=FALSE;CN="Sabrina
  Mosquera";PARTSTAT=NEEDS-ACTION:MAILTO:sabrina.mosquera@icann.org
ATTENDEE;ROLE=REQ-PARTICIPANT;RSVP=FALSE;CN="Siranush
  Vardanyan";PARTSTAT=NEEDS-ACTION:MAILTO:siranush.vardanyan@icann.org
ATTENDEE;ROLE=REQ-PARTICIPANT;RSVP=FALSE;CN="Deborah
  Escalera";PARTSTAT=NEEDS-ACTION:MAILTO:deborah.escalera@icann.org
ATTENDEE;ROLE=REQ-PARTICIPANT;RSVP=FALSE;CN=Alac-sc-outreach;PARTSTAT=NEED
 S-ACTION:MAILTO:alac-sc-outreach@atlarge-lists.icann.org
X-MICROSOFT-CDO-BUSYSTATUS:BUSY
X-MICROSOFT-CDO-ALLDAYEVENT:FALSE
X-MICROSOFT-DISALLOW-COUNTER:FALSE
X-MICROSOFT-DONOTFORWARDMEETING:FALSE
X-MICROSOFT-CDO-INSTTYPE:0
BEGIN:VALARM
ACTION:DISPLAY
DESCRIPTION:REMINDER
TRIGGER;RELATED=START:-PT00H15M00S
END:VALARM
END:VEVENT
END:VCALENDAR
