BEGIN:VCALENDAR
METHOD:REQUEST
PRODID:Microsoft Exchange Server 2010
VERSION:2.0
BEGIN:VTIMEZONE
TZID:UTC
BEGIN:STANDARD
DTSTART:16010101T000000
TZOFFSETFROM:+0000
TZOFFSETTO:+0000
END:STANDARD
BEGIN:DAYLIGHT
DTSTART:16010101T000000
TZOFFSETFROM:+0000
TZOFFSETTO:+0000
END:DAYLIGHT
END:VTIMEZONE
BEGIN:VEVENT
ORGANIZER;CN=ICANN Policy Calendar:MAILTO:PolicyCalendar@icann.org
ATTENDEE;ROLE=REQ-PARTICIPANT;PARTSTAT=NEEDS-ACTION;RSVP=TRUE;CN=Office A L
 a CARTe Connection:MAILTO:office@alacarteconnection.com
ATTENDEE;ROLE=REQ-PARTICIPANT;PARTSTAT=NEEDS-ACTION;RSVP=TRUE;CN=Jamie A La
  CARTe Connection:MAILTO:jamie@alacarteconnection.com
ATTENDEE;ROLE=REQ-PARTICIPANT;PARTSTAT=NEEDS-ACTION;RSVP=TRUE;CN=ICANN At-L
 arge Staff:MAILTO:staff@atlarge.icann.org
ATTENDEE;ROLE=REQ-PARTICIPANT;PARTSTAT=NEEDS-ACTION;RSVP=TRUE;CN=atlasiiipa
 rticipants@icann.org:MAILTO:atlasiiiparticipants@icann.org
ATTENDEE;ROLE=REQ-PARTICIPANT;PARTSTAT=NEEDS-ACTION;RSVP=TRUE;CN=CPWG :MAIL
 TO:cpwg@icann.org
ATTENDEE;ROLE=REQ-PARTICIPANT;PARTSTAT=NEEDS-ACTION;RSVP=TRUE;CN=lac-discus
 s-en@icann.org:MAILTO:lac-discuss-en@icann.org
DESCRIPTION;LANGUAGE=en-US:***If you require a dial out or need to state an
  apology\, please contact At-Large staff at staff@atlarge.icann.org<mailto
 :staff@atlarge.icann.org> with your preferred number***\n\nDear All\,\n\nT
 he next At-Large Consolidated Policy Working Group (CPWG) Call is schedule
 d for Wednesday\, 18 August 2021 at 13:00 UTC for 90 mins.\n\nFor other ti
 mes: https://tinyurl.com/c9cdnwdd\n\nThe agenda and call details can be fo
 und at: https://community.icann.org/x/kAE_Cg\n\nZoom Room: https://icann.z
 oom.us/j/765717566?pwd=UTJCdWRSZVdJNEhOYW02OVBqQVQ1Zz09/ Passcode: #CPWG23
 45*\n\nReal time transcription (RTT) available at (subject to availability
 ): https://www.streamtext.net/player?event=ICANN\n\nADIGO Conference Bridg
 e:\nEN: 1638\n\nES: 1738\n\nFR: 1838\n\nToll-free access number (US and Ca
 nada): 800 550 686\n\nOther toll-free numbers: https://www.adigo.com/icann
 \n\n\nAt-Large Consolidated Policy Working Group (CPWG) Wiki Space: https:
 //community.icann.org/x/jYDpB\n\nIf you require a dial-out please contact 
 At-Large staff at: staff@atlarge.icann.org<mailto:staff@atlarge.icann.org>
 \n\nThank you.\nKind Regards\,\nAt-Large Staff\nICANN Policy Staff in supp
 ort of the At-Large Community\nWebsite: atlarge.icann.org<https://atlarge.
 icann.org/>\nFacebook: facebook.com/icann<https://www.facebook.com/icannat
 large>atlarge<https://www.facebook.com/icannatlarge>\nTwitter: @<https://t
 witter.com/ICANNAtLarge>ICANNAtLarge<https://twitter.com/ICANNAtLarge>\n\n
 \n\n
UID:9CB1EFC9-BE51-40C4-BBB8-F09075B3A70F
SUMMARY;LANGUAGE=en-US:At-Large Consolidated Policy Working Group (CPWG) Ca
 ll
DTSTART;TZID=UTC:20210818T130000
DTEND;TZID=UTC:20210818T143000
CLASS:PUBLIC
PRIORITY:5
DTSTAMP:20210812T142751Z
TRANSP:OPAQUE
STATUS:CONFIRMED
SEQUENCE:0
LOCATION;LANGUAGE=en-US:13:00 UTC - ADIGO EN: 1638 ES: 1738 FR: 1838 - Zoom
 : : https://icann.zoom.us/j/765717566?pwd=UTJCdWRSZVdJNEhOYW02OVBqQVQ1Zz09
 /
X-MICROSOFT-CDO-APPT-SEQUENCE:0
X-MICROSOFT-CDO-OWNERAPPTID:2119721678
X-MICROSOFT-CDO-BUSYSTATUS:TENTATIVE
X-MICROSOFT-CDO-INTENDEDSTATUS:BUSY
X-MICROSOFT-CDO-ALLDAYEVENT:FALSE
X-MICROSOFT-CDO-IMPORTANCE:1
X-MICROSOFT-CDO-INSTTYPE:0
X-MICROSOFT-DONOTFORWARDMEETING:FALSE
X-MICROSOFT-DISALLOW-COUNTER:FALSE
BEGIN:VALARM
DESCRIPTION:REMINDER
TRIGGER;RELATED=START:-PT15M
ACTION:DISPLAY
END:VALARM
END:VEVENT
END:VCALENDAR
