BEGIN:VCALENDAR
METHOD:REQUEST
PRODID:Microsoft Exchange Server 2010
VERSION:2.0
BEGIN:VTIMEZONE
TZID:UTC
BEGIN:STANDARD
DTSTART:16010101T000000
TZOFFSETFROM:+0000
TZOFFSETTO:+0000
END:STANDARD
BEGIN:DAYLIGHT
DTSTART:16010101T000000
TZOFFSETFROM:+0000
TZOFFSETTO:+0000
END:DAYLIGHT
END:VTIMEZONE
BEGIN:VEVENT
ORGANIZER;CN=ICANN Policy Calendar:MAILTO:PolicyCalendar@icann.org
ATTENDEE;ROLE=REQ-PARTICIPANT;PARTSTAT=NEEDS-ACTION;RSVP=FALSE;CN=atlasiiip
 articipants@icann.org:MAILTO:atlasiiiparticipants@icann.org
ATTENDEE;ROLE=REQ-PARTICIPANT;PARTSTAT=NEEDS-ACTION;RSVP=FALSE;CN=CPWG :MAI
 LTO:cpwg@icann.org
ATTENDEE;ROLE=REQ-PARTICIPANT;PARTSTAT=NEEDS-ACTION;RSVP=FALSE;CN=lac-discu
 ss-en:MAILTO:lac-discuss-en@atlarge-lists.icann.org
ATTENDEE;ROLE=REQ-PARTICIPANT;PARTSTAT=NEEDS-ACTION;RSVP=FALSE;CN=ICANN At-
 Large Staff:MAILTO:staff@atlarge.icann.org
ATTENDEE;ROLE=REQ-PARTICIPANT;PARTSTAT=NEEDS-ACTION;RSVP=FALSE;CN=Jamie A L
 a CARTe Connection:MAILTO:jamie@alacarteconnection.com
ATTENDEE;ROLE=REQ-PARTICIPANT;PARTSTAT=NEEDS-ACTION;RSVP=FALSE;CN=Office@al
 acarteconnection.com:MAILTO:Office@alacarteconnection.com
ATTENDEE;ROLE=OPT-PARTICIPANT;PARTSTAT=NEEDS-ACTION;RSVP=FALSE;CN=Roberto G
 aetano:MAILTO:roberto_gaetano@hotmail.com
ATTENDEE;ROLE=OPT-PARTICIPANT;PARTSTAT=NEEDS-ACTION;RSVP=FALSE;CN=Брик 
 Марина:MAILTO:mbrik@nic.ru
ATTENDEE;ROLE=OPT-PARTICIPANT;PARTSTAT=NEEDS-ACTION;RSVP=FALSE;CN=Evin Erdo
 gdu:MAILTO:evin.erdogdu@icann.org
ATTENDEE;ROLE=OPT-PARTICIPANT;PARTSTAT=NEEDS-ACTION;RSVP=FALSE;CN=Heidi Ull
 rich:MAILTO:Heidi.Ullrich@icann.org
ATTENDEE;ROLE=OPT-PARTICIPANT;PARTSTAT=NEEDS-ACTION;RSVP=FALSE;CN=Fahd Bata
 yneh:MAILTO:fahd.batayneh@icann.org
ATTENDEE;ROLE=OPT-PARTICIPANT;PARTSTAT=NEEDS-ACTION;RSVP=FALSE;CN=Christina
  Rodriguez:MAILTO:christina.rodriguez@icann.org
DESCRIPTION;LANGUAGE=en-US:***If you require a dial out or need to state an
  apology\, please contact At-Large staff at staff@atlarge.icann.org<mailto
 :staff@atlarge.icann.org> with your preferred number***\n\nPLEASE NOTE: IN
 TERPRETATION NOT AVAILABLE DUE TO ICANN72 PREP WEEK\n\nTENGA EN CUENTA: LA
  INTERPRETACIÓN NO ESTÁ DISPONIBLE DEBIDO A LA SEMANA DE PREPARACIÓN DE
  LA ICANN72\n\nVEUILLEZ NOTER : INTERPRÉTATION NON DISPONIBLE EN RAISON D
 E LA SEMAINE DE PRÉPARATION DE L'ICANN72\n\nDear All\,\n\nThe next At-Lar
 ge Consolidated Policy Working Group (CPWG) Call is scheduled for Wednesda
 y\, 13 October 2021 at 19:00 UTC for 90 mins.\n\nFor other times: https://
 tinyurl.com/399698p2\n\nThe agenda and call details can be found at: https
 ://community.icann.org/x/TguHCg\n\nZoom Room: https://icann.zoom.us/j/7657
 17566?pwd=UTJCdWRSZVdJNEhOYW02OVBqQVQ1Zz09/\n\nPasscode: #CPWG2345*\n\nRea
 l time transcription (RTT) available at (subject to availability): https:/
 /www.streamtext.net/player?event=ICANN\n\nADIGO Conference Bridge:\nEN: 16
 38\n\nToll-free access number (US and Canada): 800 550 686\n\nOther toll-f
 ree numbers: https://www.adigo.com/icann\n\n\nAt-Large Consolidated Policy
  Working Group (CPWG) Wiki Space: https://community.icann.org/x/jYDpB\n\nI
 f you require a dial-out please contact At-Large staff at: staff@atlarge.i
 cann.org<mailto:staff@atlarge.icann.org>\n\nThank you.\n\nKind Regards\,\n
 \nAt-Large Staff\n\nICANN Policy Staff in support of the At-Large Communit
 y\n\nWebsite: atlarge.icann.org<https://atlarge.icann.org/>\n\nFacebook: f
 acebook.com/icann<https://www.facebook.com/icannatlarge>atlarge<https://ww
 w.facebook.com/icannatlarge>\n\nTwitter: @<https://twitter.com/ICANNAtLarg
 e>ICANNAtLarge<https://twitter.com/ICANNAtLarge>\n
UID:E010A13B-B664-4A82-B01B-3FA09C397F2C
SUMMARY;LANGUAGE=en-US:At-Large Consolidated Policy Working Group (CPWG) Ca
 ll 
DTSTART;TZID=UTC:20211013T190000
DTEND;TZID=UTC:20211013T203000
CLASS:PUBLIC
PRIORITY:5
DTSTAMP:20211007T172730Z
TRANSP:OPAQUE
STATUS:CONFIRMED
SEQUENCE:1
LOCATION;LANGUAGE=en-US:19:00 UTC - ADIGO EN: 1638 - Zoom: https://icann.zo
 om.us/j/765717566?pwd=UTJCdWRSZVdJNEhOYW02OVBqQVQ1Zz09/
X-MICROSOFT-CDO-APPT-SEQUENCE:1
X-MICROSOFT-CDO-OWNERAPPTID:2119841832
X-MICROSOFT-CDO-BUSYSTATUS:TENTATIVE
X-MICROSOFT-CDO-INTENDEDSTATUS:BUSY
X-MICROSOFT-CDO-ALLDAYEVENT:FALSE
X-MICROSOFT-CDO-IMPORTANCE:1
X-MICROSOFT-CDO-INSTTYPE:0
X-MICROSOFT-DONOTFORWARDMEETING:FALSE
X-MICROSOFT-DISALLOW-COUNTER:TRUE
BEGIN:VALARM
DESCRIPTION:REMINDER
TRIGGER;RELATED=START:-PT15M
ACTION:DISPLAY
END:VALARM
END:VEVENT
END:VCALENDAR
