BEGIN:VCALENDAR
VERSION:2.0
PRODID:-//Microsoft Corporation//Outlook for Mac MIMEDIR//EN
METHOD:PUBLISH
BEGIN:VTIMEZONE
TZID:Coordinated Universal Time
X-ENTOURAGE-CFTIMEZONE:UTC
X-ENTOURAGE-TZID:93
BEGIN:STANDARD
TZOFFSETFROM:+0000
TZOFFSETTO:+0000
DTSTART:16010101T000000
END:STANDARD
END:VTIMEZONE
BEGIN:VEVENT
UID:4BDD13F8-39E9-49EE-968C-4CB9E317AE25
X-ENTOURAGE_UUID:4BDD13F8-39E9-49EE-968C-4CB9E317AE25
X-MICROSOFT-EXCHANGE-ID:AAMkADFlMDNlNjQ5LTNjNTUtNDJkMC04ZTI0LWFiMTFkOTgwND
 JhMQBGAAAAAAAdZPIZTDF9SJl4Q9bAl0gQBwAFskP3JLIoSYZSK2rNBQTXAIjV8WqdAACjhqXC
 SbKVRZwH7aZE5XhKAAEfinRKAAA=
X-MICROSOFT-EXCHANGE-CHANGEKEY:DwAAABYAAACjhqXCSbKVRZwH7aZE5XhKAAEflOr5
DTSTAMP:20210923T224044Z
DTSTART;TZID="Coordinated Universal Time":20210928T160000
DTEND;TZID="Coordinated Universal Time":20210928T170000
LAST-MODIFIED:20210923T224045Z
SUMMARY:Social Media Working Group 
DESCRIPTION:**If you require a dial-out or need to state an apology\,
  please contact At-Large staff ONLY at staff@atlarge.icann.org with your
  preferred number.**\n\n \n\n \n\nDear All\,\n\n \n\nFurther to the
  Doodle poll\, the next Social Media Working Group Call is scheduled for
  Tuesday\, 28 September 2021 at 16:00 UTC for 60 minutes.\n\n  \n\nFor
  other times: https://tinyurl.com/44zw7z3p \n\n \n\nThe agenda and call
  details can be found at: https://community.icann.org/x/oQKHCg \n\n
  \n\nZoom Room:
    https://icann.zoom.us/j/98459419918?pwd=SHQ0QnVESjFtWGdRNEZ6VFFPd3FGQT0
 9\n\nPasscode:   SMWG-2021!\n\n \n\nADIGO Audio Bridge\n\n \n\nEN:
  1638\n\nES: 1738\n\n \n\nToll-free access number (US and Canada): 800
  550 6865\n\nOther toll-free numbers: https://www.adigo.com/icann
  [adigo.com]\n\n Social Media Working Group wiki space:
  https://community.icann.org/x/nIrhAg \n\n \n\n \n\nThank you.\n\nKind
  Regards\,\n\nAt-Large Staff\n\nICANN Policy Staff in support of the
  At-Large Community\n\nWebsite: atlarge.icann.org\n\nFacebook:
  facebook.com/icannatlarge\n\nTwitter: @ICANNAtLarge\n\n \n\n \n\n \n
LOCATION:16:00 UTC - ADIGO EN: 1638 ES: 1738 -
  https://icann.zoom.us/j/98459419918?pwd=SHQ0QnVESjFtWGdRNEZ6VFFPd3FGQT09
ORGANIZER:MAILTO:PolicyCalendar@icann.org
SEQUENCE:0
ATTENDEE;ROLE=REQ-PARTICIPANT;RSVP=FALSE;CN=social-media-wg;PARTSTAT=NEEDS
 -ACTION:MAILTO:social-media-wg@atlarge-lists.icann.org
ATTENDEE;ROLE=REQ-PARTICIPANT;RSVP=FALSE;CN="ICANN At-Large
  Staff";PARTSTAT=NEEDS-ACTION:MAILTO:staff@atlarge.icann.org
ATTENDEE;ROLE=REQ-PARTICIPANT;RSVP=FALSE;CN="Sabrina
  Mosquera";PARTSTAT=NEEDS-ACTION:MAILTO:sabrina.mosquera@icann.org
ATTENDEE;ROLE=REQ-PARTICIPANT;RSVP=FALSE;CN="TEL
  ES-Teleconf-Interpretation";PARTSTAT=NEEDS-ACTION:MAILTO:ES-Teleconf-Inte
 rpretation@icann.org
X-MICROSOFT-CDO-BUSYSTATUS:BUSY
X-MICROSOFT-CDO-ALLDAYEVENT:FALSE
X-MICROSOFT-DISALLOW-COUNTER:FALSE
X-MICROSOFT-DONOTFORWARDMEETING:FALSE
X-MICROSOFT-CDO-INSTTYPE:0
BEGIN:VALARM
ACTION:DISPLAY
DESCRIPTION:REMINDER
TRIGGER;RELATED=START:-PT00H15M00S
END:VALARM
END:VEVENT
END:VCALENDAR
