BEGIN:VCALENDAR
VERSION:2.0
PRODID:-//Microsoft Corporation//Outlook for Mac MIMEDIR//EN
METHOD:PUBLISH
BEGIN:VTIMEZONE
TZID:Coordinated Universal Time
X-ENTOURAGE-CFTIMEZONE:UTC
X-ENTOURAGE-TZID:93
BEGIN:STANDARD
TZOFFSETFROM:+0000
TZOFFSETTO:+0000
DTSTART:16010101T000000
END:STANDARD
END:VTIMEZONE
BEGIN:VEVENT
UID:3CD6CD26-A7C9-4C0F-ABCD-109F8194D1A3
X-ENTOURAGE_UUID:3CD6CD26-A7C9-4C0F-ABCD-109F8194D1A3
X-MICROSOFT-EXCHANGE-ID:AAMkADFlMDNlNjQ5LTNjNTUtNDJkMC04ZTI0LWFiMTFkOTgwND
 JhMQBGAAAAAAAdZPIZTDF9SJl4Q9bAl0gQBwAFskP3JLIoSYZSK2rNBQTXAIjV8WqdAACjhqXC
 SbKVRZwH7aZE5XhKAAF9osDfAAA=
X-MICROSOFT-EXCHANGE-CHANGEKEY:DwAAABYAAACjhqXCSbKVRZwH7aZE5XhKAAF9spbQ
DTSTAMP:20220211T194221Z
DTSTART;TZID="Coordinated Universal Time":20220217T170000
DTEND;TZID="Coordinated Universal Time":20220217T180000
LAST-MODIFIED:20220211T194221Z
SUMMARY:At-Large Social Media Working Group Call
DESCRIPTION:**If you require a dial-out or need to state an apology\,
  please contact At-Large staff ONLY at staff@atlarge.icann.org with your
  preferred number.**\n\n \n\n \n\nDear All\,\n\n \n\nFurther to the
  Doodle poll\, the next Social Media Working Group Call is scheduled for
  Thursday\, 17 February 2022 at 17:00 UTC for 60 minutes.\n\n  \n\nFor
  other times: https://tinyurl.com/mpmtdp2e \n\n \n\nThe agenda (to be
  updated) and call details can be found at:
   https://community.icann.org/x/BwwiCw \n\n \n\nZoom Room:
  https://icann.zoom.us/j/92386770526?pwd=Q2JScW5Gbk9pc2lUR1RRQUxJVEdIQT09
  / Passcode: SMWGCall#1\n\n \n\nZoom Dial-in Numbers:
  https://zoom.us/u/ayXQGOHVG  \n\n
                                                                       \n\n
 ADIGO Conference ID (Please note: when now dialing into Adigo line\, you
  will press 1638 then the Adigo operator will ask you which language you
  prefer and then transfer to you the appropriate language channel)\n\n
  \n\n \n\nEN: 1638\n\nES: 1638\n\nPT: 1638\n\n \n\nToll-free access
  number (US and Canada): 800 550 6865\n\nOther toll-free numbers:
  https://www.adigo.com/icann [adigo.com]\n\n Social Media Working Group
  wiki space: https://community.icann.org/x/nIrhAg\n\n \n\n \n\nThank
  you.\n\nKind Regards\,\n\n \n\nAt-Large Staff\n\nICANN Policy Staff in
  support of the At-Large Community\n\nWebsite:
  atlarge.icann.org\n\nFacebook: facebook.com/icannatlarge\n\nTwitter:
  @ICANNAtLarge\n
LOCATION:17:00 UTC - ADIGO 1638 -
  https://icann.zoom.us/j/92386770526?pwd=Q2JScW5Gbk9pc2lUR1RRQUxJVEdIQT09
  
ORGANIZER:MAILTO:PolicyCalendar@icann.org
SEQUENCE:0
ATTENDEE;ROLE=REQ-PARTICIPANT;RSVP=FALSE;CN="Heidi
  Ullrich";PARTSTAT=NEEDS-ACTION:MAILTO:Heidi.Ullrich@icann.org
ATTENDEE;ROLE=REQ-PARTICIPANT;RSVP=FALSE;CN="Silvia
  Vivanco";PARTSTAT=NEEDS-ACTION:MAILTO:silvia.vivanco@icann.org
ATTENDEE;ROLE=REQ-PARTICIPANT;RSVP=FALSE;CN="Gisella
  Gruber";PARTSTAT=NEEDS-ACTION:MAILTO:Gisella.Gruber@icann.org
ATTENDEE;ROLE=REQ-PARTICIPANT;RSVP=FALSE;CN="Evin
  Erdogdu";PARTSTAT=DECLINED:MAILTO:evin.erdogdu@icann.org
ATTENDEE;ROLE=REQ-PARTICIPANT;RSVP=FALSE;CN="Claudia
  Ruiz";PARTSTAT=NEEDS-ACTION:MAILTO:claudia.ruiz@icann.org
ATTENDEE;ROLE=REQ-PARTICIPANT;RSVP=FALSE;CN="Michelle
  DeSmyter";PARTSTAT=NEEDS-ACTION:MAILTO:michelle.desmyter@icann.org
ATTENDEE;ROLE=REQ-PARTICIPANT;RSVP=FALSE;CN="Yesim
  Saglam";PARTSTAT=ACCEPTED:MAILTO:yesim.nazlar@icann.org
ATTENDEE;ROLE=REQ-PARTICIPANT;RSVP=FALSE;CN=Social-Media-WG;PARTSTAT=NEEDS
 -ACTION:MAILTO:social-media-wg@atlarge-lists.icann.org
ATTENDEE;ROLE=REQ-PARTICIPANT;RSVP=FALSE;CN="TEL
  ES-Teleconf-Interpretation";PARTSTAT=NEEDS-ACTION:MAILTO:ES-Teleconf-Inte
 rpretation@icann.org
ATTENDEE;ROLE=REQ-PARTICIPANT;RSVP=FALSE;CN="Sabrina
  Mosquera";PARTSTAT=ACCEPTED:MAILTO:sabrina.mosquera@icann.org
ATTENDEE;ROLE=OPT-PARTICIPANT;RSVP=FALSE;CN=vrikson.i.acosta.v@gmail.com;P
 ARTSTAT=ACCEPTED:MAILTO:vrikson.i.acosta.v@gmail.com
X-MICROSOFT-CDO-BUSYSTATUS:BUSY
X-MICROSOFT-CDO-ALLDAYEVENT:FALSE
X-MICROSOFT-DISALLOW-COUNTER:FALSE
X-MICROSOFT-DONOTFORWARDMEETING:FALSE
X-MICROSOFT-CDO-INSTTYPE:0
BEGIN:VALARM
ACTION:DISPLAY
DESCRIPTION:REMINDER
TRIGGER;RELATED=START:-PT00H15M00S
END:VALARM
END:VEVENT
END:VCALENDAR
