BEGIN:VCALENDAR
METHOD:REQUEST
PRODID:Microsoft Exchange Server 2010
VERSION:2.0
BEGIN:VTIMEZONE
TZID:UTC
BEGIN:STANDARD
DTSTART:16010101T000000
TZOFFSETFROM:+0000
TZOFFSETTO:+0000
END:STANDARD
BEGIN:DAYLIGHT
DTSTART:16010101T000000
TZOFFSETFROM:+0000
TZOFFSETTO:+0000
END:DAYLIGHT
END:VTIMEZONE
BEGIN:VEVENT
ORGANIZER;CN=ICANN Policy Calendar:MAILTO:PolicyCalendar@icann.org
ATTENDEE;ROLE=REQ-PARTICIPANT;PARTSTAT=NEEDS-ACTION;RSVP=TRUE;CN=Heidi Ullr
 ich:MAILTO:Heidi.Ullrich@icann.org
ATTENDEE;ROLE=REQ-PARTICIPANT;PARTSTAT=NEEDS-ACTION;RSVP=TRUE;CN=Silvia Viv
 anco:MAILTO:silvia.vivanco@icann.org
ATTENDEE;ROLE=REQ-PARTICIPANT;PARTSTAT=NEEDS-ACTION;RSVP=TRUE;CN=Gisella Gr
 uber:MAILTO:Gisella.Gruber@icann.org
ATTENDEE;ROLE=REQ-PARTICIPANT;PARTSTAT=NEEDS-ACTION;RSVP=TRUE;CN=Evin Erdog
 du:MAILTO:evin.erdogdu@icann.org
ATTENDEE;ROLE=REQ-PARTICIPANT;PARTSTAT=NEEDS-ACTION;RSVP=TRUE;CN=Claudia Ru
 iz:MAILTO:claudia.ruiz@icann.org
ATTENDEE;ROLE=REQ-PARTICIPANT;PARTSTAT=NEEDS-ACTION;RSVP=TRUE;CN=Michelle D
 eSmyter:MAILTO:michelle.desmyter@icann.org
ATTENDEE;ROLE=REQ-PARTICIPANT;PARTSTAT=NEEDS-ACTION;RSVP=TRUE;CN=Yesim Sagl
 am:MAILTO:yesim.nazlar@icann.org
ATTENDEE;ROLE=REQ-PARTICIPANT;PARTSTAT=NEEDS-ACTION;RSVP=TRUE;CN=Denise de 
 alcantara-hochbaum:MAILTO:denise.hochbaum@gmail.com
ATTENDEE;ROLE=REQ-PARTICIPANT;PARTSTAT=NEEDS-ACTION;RSVP=TRUE;CN=Bukola  Or
 onti:MAILTO:bukkiepharworley@gmail.com
ATTENDEE;ROLE=REQ-PARTICIPANT;PARTSTAT=NEEDS-ACTION;RSVP=TRUE;CN=Natalia Fi
 lina:MAILTO:filinafilka@gmail.com
ATTENDEE;ROLE=REQ-PARTICIPANT;PARTSTAT=NEEDS-ACTION;RSVP=TRUE;CN=lilian ive
 tte de luque bruges:MAILTO:lilidebru@hotmail.com
ATTENDEE;ROLE=REQ-PARTICIPANT;PARTSTAT=NEEDS-ACTION;RSVP=TRUE;CN=Jonathan Z
 uck:MAILTO:JZuck@innovatorsnetwork.org
ATTENDEE;ROLE=REQ-PARTICIPANT;PARTSTAT=NEEDS-ACTION;RSVP=TRUE;CN=DANIEL NAN
 GHAKA:MAILTO:dndannang@gmail.com
ATTENDEE;ROLE=REQ-PARTICIPANT;PARTSTAT=NEEDS-ACTION;RSVP=TRUE;CN=shah.zahid
 ur@gmail.com:MAILTO:shah.zahidur@gmail.com
ATTENDEE;ROLE=REQ-PARTICIPANT;PARTSTAT=NEEDS-ACTION;RSVP=TRUE;CN=Eduardo Di
 az:MAILTO:eduardodiazrivera@gmail.com
ATTENDEE;ROLE=REQ-PARTICIPANT;PARTSTAT=NEEDS-ACTION;RSVP=TRUE;CN=Social-Med
 ia-WG:MAILTO:social-media-wg@atlarge-lists.icann.org
DESCRIPTION;LANGUAGE=en-US:***Please note\, if you are sending an apology o
 r dial-out request\, please ONLY send to staff@atlarge.icann.org<mailto:st
 aff@atlarge.icann.org> (do NOT reply to all) ****\n\nDear All\,\n\nFurther
  to the Doodle poll\, the At-Large Social Media Working Group Call is sche
 duled for Wednesday\, 02 March 2022 at 20:00 UTC.\n\nFor other times: http
 s://tinyurl.com/4rn6a6kh\n\nThe agenda (to be updated) and call details ar
 e available at: https://community.icann.org/x/2RgiCw\n\nADIGO Conference I
 D:\nEN: 1638\n\nADIGO toll free numbers: https://www.adigo.com/icann\n\nZO
 OM LINK: https://icann.zoom.us/j/96985758439?pwd=ZlpzRWNDdWN5dllCV0xNeHNYW
 GZvZz09  / Passcode: SMWGCall#1\n\nZoom Dial-in Numbers: https://zoom.us/u
 /ayXQGOHVG\n\nIf you require a dial-out please contact At-Large staff at: 
 staff@atlarge.icann.org<mailto:staff@atlarge.icann.org>\n\nThank you.\nKin
 d Regards\,\n\nAt-Large Staff\nICANN Policy Staff in support of the At-Lar
 ge Community\nWebsite: atlarge.icann.org<https://atlarge.icann.org/>\nFace
 book: facebook.com/icann<https://www.facebook.com/icannatlarge>atlarge<htt
 ps://www.facebook.com/icannatlarge>\nTwitter: @<https://twitter.com/ICANNA
 tLarge>ICANNAtLarge<https://twitter.com/ICANNAtLarge>\n\n
UID:713E9E71-1C68-4138-9F5F-8F589F56DA3B
SUMMARY;LANGUAGE=en-US:At-Large Social Media Working Group Call
DTSTART;TZID=UTC:20220302T200000
DTEND;TZID=UTC:20220302T210000
CLASS:PUBLIC
PRIORITY:5
DTSTAMP:20220302T072213Z
TRANSP:OPAQUE
STATUS:CONFIRMED
SEQUENCE:3
LOCATION;LANGUAGE=en-US:20:00 UTC - ADIGO 1638 - https://icann.zoom.us/j/96
 985758439?pwd=ZlpzRWNDdWN5dllCV0xNeHNYWGZvZz09  
X-MICROSOFT-CDO-APPT-SEQUENCE:3
X-MICROSOFT-CDO-OWNERAPPTID:2120421336
X-MICROSOFT-CDO-BUSYSTATUS:TENTATIVE
X-MICROSOFT-CDO-INTENDEDSTATUS:BUSY
X-MICROSOFT-CDO-ALLDAYEVENT:FALSE
X-MICROSOFT-CDO-IMPORTANCE:1
X-MICROSOFT-CDO-INSTTYPE:0
X-MICROSOFT-DONOTFORWARDMEETING:FALSE
X-MICROSOFT-DISALLOW-COUNTER:FALSE
BEGIN:VALARM
DESCRIPTION:REMINDER
TRIGGER;RELATED=START:-PT15M
ACTION:DISPLAY
END:VALARM
END:VEVENT
END:VCALENDAR
